BEGIN:VCALENDAR
VERSION:2.0
PRODID:-//wp-events-plugin.com//7.2.3.1//EN
TZID:Europe/Helsinki
X-WR-TIMEZONE:Europe/Helsinki
BEGIN:VEVENT
UID:354@inflames.utu.fi
DTSTART;TZID=Europe/Helsinki:20240828T150000
DTEND;TZID=Europe/Helsinki:20240828T154500
DTSTAMP:20240813T113149Z
URL:https://inflames.utu.fi/events/turun-eurooppa-foorumi-3/
SUMMARY:Turun Eurooppa-Foorumi
DESCRIPTION:InFLAMES tuo Turun Eurooppa-Foorumiin keskustelun\, jonka teema
 na on Terve Eurooppa on turvallisempi Eurooppa. Paneelin puheejohtaja on I
 nFLAMESin työelämäprofessori Timo Lappalainen.  Panelisteina ovat pä
 äjohtaja Mika Salminen \, THL\, johtava asiantuntija Liisa-Maria Voipio-P
 ulkki\, STM ja toimialajohtaja Mikko Pietilä\, Varha.
ATTACH;FMTTYPE=image/jpeg:https://inflames.utu.fi/wp-content/uploads/EF202
 1.2-kuva-Jaska-Poikonen-980x653-1.jpg
CATEGORIES:Events in English,Tapahtumat
END:VEVENT
BEGIN:VTIMEZONE
TZID:Europe/Helsinki
X-LIC-LOCATION:Europe/Helsinki
BEGIN:DAYLIGHT
DTSTART:20240331T040000
TZOFFSETFROM:+0200
TZOFFSETTO:+0300
TZNAME:EEST
END:DAYLIGHT
END:VTIMEZONE
END:VCALENDAR