BEGIN:VCALENDAR
VERSION:2.0
PRODID:-//wp-events-plugin.com//7.2.3.1//EN
TZID:Europe/Helsinki
X-WR-TIMEZONE:Europe/Helsinki
BEGIN:VEVENT
UID:194@inflames.utu.fi
DTSTART;TZID=Europe/Helsinki:20221121T150000
DTEND;TZID=Europe/Helsinki:20221121T190000
DTSTAMP:20230120T083412Z
URL:https://inflames.utu.fi/events/turku-immunology-centre-kick-off-event/
SUMMARY:Turku Immunology Centre kick-off event
DESCRIPTION:The kick-off event for Turku Immunology Centre.\n\n21.11.2022 a
 t 15.00 - 19.00\nMauno President Auditorium\, Biocity\, Tykistökatu 6 A\,
  20520\, Turku\n\n\n\nYou are welcome to join Immunology Centre's kick-off
  event at Biocity\, President auditorium\, Tykistökatu 6A\, Turku.\n\nThe
  Hospital District of Varsinais Suomi (VSSHP) has chosen the Turku Immunol
 ogy Centre as a center of excellence. The Immunology Centre has also made 
 it onto the research infrastructure roadmap of the University of Turku. Th
 e center was established at the end of 2021.\n\nImmunology Centre is a joi
 nt organization of the special fields from University of Turku\, Faculty o
 f Medicine\, Turku Bioscience Centre (a joint independent unit at Universi
 ty of Turku and Åbo Akademi) and VSSHP. The Centre is strongly related to
  the InFLAMES Research Flagship.\n\nThe seminar is open (no registration n
 eeded) to everyone who is interested. \n\nIf you are interested in joining
  for dinner at Restaurant Mauno after the seminar please feel free to cont
 act inflames@utu.fi. \n\nIf you have any questions\, feel free to contact 
 inflames@utu.fi\nProgramme:\n15.00-15:15    Coffee/Tea\n\n15.15-17:00\n
 \nWelcome words and greetings from\nRector Jukka Kola\, University of Turk
 u\nDirector Mikko Pietilä\, Hospital District of Southwest Finland\n\nWhy
  Immunology Centre?\nAcademician Sirpa Jalkanen\, InFLAMES Flagship\, Univ
 ersity of Turku\n\nImmunology Centre – Unit of Excellence in the Hospita
 l District of Southwest Finland\nDirector of Unit of Excellence\, Adjunct 
 Professor Johanna Lempainen\, Unit of Rare Diseases\, Turku University Hos
 pital\n\nCommentaries\nAcademy Research Fellow Rogerio De Figueiredo\, Ins
 titute of Biomedicine\, University of Turku\nDocent Pauliina Hartiala\, De
 partment of plastic and general surgery\, InFLAMES Flagship\, University o
 f Turku/Turku University Hospital\nMD\, PhD Vilhelmiina Parikka\, Paediatr
 ics and Adolescent Medicine\, InFLAMES Flagship\, University of Turku/Turk
 u University Hospital\n\nDiscussion\n\nInfo: Euro-BioImaging presents fund
 ing opportunities for infectious disease research via the ISIDORe-project\
 n\nSpecial Guest show by Martti Vannas\nA Finnish award-winning magician\,
  memory trainer\, doctor and author\n\n17:00-19:00 Discussion continues ov
 er dinner at Restaurant Mauno\n\n&nbsp\;\n\n&nbsp\;\n\n&nbsp\;
ATTACH;FMTTYPE=image/jpeg:https://inflames.utu.fi/wp-content/uploads/2022/
 10/Martti_Vannas.png
END:VEVENT
BEGIN:VTIMEZONE
TZID:Europe/Helsinki
X-LIC-LOCATION:Europe/Helsinki
BEGIN:STANDARD
DTSTART:20221030T030000
TZOFFSETFROM:+0300
TZOFFSETTO:+0200
TZNAME:EET
END:STANDARD
END:VTIMEZONE
END:VCALENDAR