BEGIN:VCALENDAR
VERSION:2.0
PRODID:-//wp-events-plugin.com//7.2.3.1//EN
TZID:Europe/Helsinki
X-WR-TIMEZONE:Europe/Helsinki
BEGIN:VEVENT
UID:63@inflames.utu.fi
DTSTART;TZID=Europe/Helsinki:20211207T140000
DTEND;TZID=Europe/Helsinki:20211207T150000
DTSTAMP:20230120T083246Z
URL:https://inflames.utu.fi/events/t-cell-studies-in-type-1-diabetes/
SUMMARY:T cell studies in type 1 diabetes
DESCRIPTION:Tuure Kinnunen\, University of Eastern Finland: T cell studies 
 in type 1 diabetes\n\nRegister latest December 5th at: https://link.webrop
 olsurveys.com/S/111057C69B07821C\n\n&nbsp\;
END:VEVENT
BEGIN:VTIMEZONE
TZID:Europe/Helsinki
X-LIC-LOCATION:Europe/Helsinki
BEGIN:STANDARD
DTSTART:20211031T030000
TZOFFSETFROM:+0300
TZOFFSETTO:+0200
TZNAME:EET
END:STANDARD
END:VTIMEZONE
END:VCALENDAR