BEGIN:VCALENDAR
VERSION:2.0
PRODID:-//wp-events-plugin.com//7.2.3.1//EN
TZID:Europe/Helsinki
X-WR-TIMEZONE:Europe/Helsinki
BEGIN:VEVENT
UID:263@inflames.utu.fi
DTSTART;TZID=Europe/Helsinki:20230525T091500
DTEND;TZID=Europe/Helsinki:20230525T110000
DTSTAMP:20230406T095319Z
URL:https://inflames.utu.fi/events/studia-generalia-of-the-honorary-doctor
 s-of-the-faculty-of-medicine-2/
SUMMARY:Lääketieteellisen tiedekunnan kunniatohtoreiden Studia Generalia
DESCRIPTION:Lääketieteellisen tiedekunnan tohtoripromootion yhteydessä j
 ärjestetään Studia Generalia -luentotilaisuus Medisiina D:n Alhopuro-sa
 lissa torstaina 25.5. klo 9.15–11.00.\n\nStudia Generaliassa puhuvat lä
 äketieteellisen tiedekunnan tohtoripromootion kunniatohtorit emeritusprof
 essori Mikael Knip\, emeritusprofessori Björn Klinge\, professori Manuel 
 Tena-Sempere\, professori Adelaida Zabalegui sekä ylilääkäri Hanna Noh
 ynek.\n\nTilaisuus pidetään englanniksi.\n\nImoittaudu tapahtumaan viime
 istään 17.5.2023: https://link.webropolsurveys.com/S/BDE3040696581E74 (k
 opioi linkki selaimeen)\n\nTapahtuma alkaa kahvitarjoilulla klo 8.45.\n\nO
 hjelma:\n\n9.15 Welcome by Dean Pekka Hänninen\n9.20 Professor Emeritus M
 ikael Knip: The unsolved puzzle of type 1 diabetes\nDiscussion 5 min\n9.40
  Professor Emeritus Björn Klinge: The link between oral and systemic heal
 th\nDiscussion 5 min\n10.00 Professor Manuel Tena-Sempere: Connecting body
  weight and reproduction: Physiological basis and pathological implication
 s\nDiscussion 5 min\n10.20 Professor Adelaida Zabalegui: Implementation of
  Advanced Practice Nursing in Spain\nDiscussion 5 min\n10.40 Chief Physici
 an Hanna Nohynek: What did the covid-19 pandemic teach us about vaccines?\
 nDiscussion 5 min\n11.00 Closing by Dean Pekka Hänninen\n\nImoittaudu tap
 ahtumaan viimeistään 17.5.2023.
ATTACH;FMTTYPE=image/jpeg:https://inflames.utu.fi/wp-content/uploads/Med_f
 aculty_logo.png
CATEGORIES:Tapahtumat
END:VEVENT
BEGIN:VTIMEZONE
TZID:Europe/Helsinki
X-LIC-LOCATION:Europe/Helsinki
BEGIN:DAYLIGHT
DTSTART:20230326T040000
TZOFFSETFROM:+0200
TZOFFSETTO:+0300
TZNAME:EEST
END:DAYLIGHT
END:VTIMEZONE
END:VCALENDAR