BEGIN:VCALENDAR
VERSION:2.0
PRODID:-//wp-events-plugin.com//7.2.3.1//EN
TZID:Europe/Helsinki
X-WR-TIMEZONE:Europe/Helsinki
BEGIN:VEVENT
UID:258@inflames.utu.fi
DTSTART;TZID=Europe/Helsinki:20230508T013000
DTEND;TZID=Europe/Helsinki:20230508T040000
DTSTAMP:20230328T092657Z
URL:https://inflames.utu.fi/events/start-ups-rising-from-academia-networki
 ng-event/
SUMMARY:Start-Ups Rising from Academia Networking Event
DESCRIPTION:\nDid you come up with an excellent tech idea but you wonder ho
 w to take the next steps?\nDo you want to meet like-minded scientists and 
 get motivation for your innovative work?\nHave you heard about Entrepreneu
 rial Hub Konttori?\nAre you interested in listening (success)stories from 
 the spinoffs rising from Turku academia?\n&nbsp\;\n\nCome and join this Th
 ematics TeamUp networking event where you will hear how to succeed in the 
 startup world and to get motivation and gentle push for taking the big lea
 p towards entrepreneurship. You will have the opportunity to exchange idea
 s and to find people who can support you on your startup path. Join us to 
 network and get invaluable insights into the latest developments!\n\nWe wi
 ll update the program when we get more startups along:\nhttps://www.utu.fi
 /en/research/thematic-collaborations-in-research/team-up/start-ups-rising-
 from-academia\n\n&nbsp\;\n\nRegister to the event by Wednesday 3 May\nhttp
 s://link.webropolsurveys.com/S/EC946220AAA11D29\n\n \nStart-ups Rising fr
 om Academia\nThematics TeamUp event hosted by FTDS and HDDD\n\nMonday 8 Ma
 y 13:30-16:30\nWorkshop meeting room\, Joki Innovation Centre 3rd floor\, 
 Turku\n\n&nbsp\;\n\nProgram\n\n13:30        Mix and mingle with snacks
  and drinks\n\n14:00        Welcome words\n                  
   Jaakko Järvi\, FTDS chair\n                    Jyrki Heino\,
  HDDD chair\n\n14:10         Key-note talk: The story of CardioSignal
  - Transforming science into health tech business\n               
      Mikko Pänkäälä\, Precordior Oy\n14:30         Q&amp\;A\n\n
 14:40        Support and motivation for researchers with great ideas\n
                     Marjo Pihlavisto\, UTU support services for 
 research based spin-offs\n                    David Oliva\, TUAS
  approach to launch innovations\n                    Tom Paleniu
 s\, Turku Business Region title TBA\n15:10         Q&amp\;A\n\n15:20
         Five-minute talks by spin-offs raising from Turku academia\n15
 :40        Q&amp\;A\n\n15:50        Mix and mingle with snacks and
  drinks\n\n16:30        Event ends\n\n&nbsp\;
ATTACH;FMTTYPE=image/jpeg:https://inflames.utu.fi/wp-content/uploads/08052
 3_400x400px.jpg
LOCATION:Visitor and Innovation Centre Joki\, Lemminkäisenkatu 12 B\, Turk
 u\, Finland\, Finland
X-APPLE-STRUCTURED-LOCATION;VALUE=URI;X-ADDRESS=Lemminkäisenkatu 12 B\, Tu
 rku\, Finland\, Finland;X-APPLE-RADIUS=100;X-TITLE=Visitor and Innovation 
 Centre Joki:geo:0,0
END:VEVENT
BEGIN:VTIMEZONE
TZID:Europe/Helsinki
X-LIC-LOCATION:Europe/Helsinki
BEGIN:DAYLIGHT
DTSTART:20230326T040000
TZOFFSETFROM:+0200
TZOFFSETTO:+0300
TZNAME:EEST
END:DAYLIGHT
END:VTIMEZONE
END:VCALENDAR