BEGIN:VCALENDAR
VERSION:2.0
PRODID:-//wp-events-plugin.com//7.2.3.1//EN
TZID:Europe/Helsinki
X-WR-TIMEZONE:Europe/Helsinki
BEGIN:VEVENT
UID:383@inflames.utu.fi
DTSTART;TZID=Europe/Helsinki:20250210T084500
DTEND;TZID=Europe/Helsinki:20250210T160000
DTSTAMP:20250130T105808Z
URL:https://inflames.utu.fi/events/profi7-computational-seminar-day/
SUMMARY:Profi7 Computational Seminar Day
DESCRIPTION:Join us to Profi7 Computational Seminar Day! \nAll Profi7 proj
 ects (Human Diversity\, IMMUNOCAPS and SUSMAT) are arranging together a co
 mputational seminar day where each project will tell what kind of computat
 ional research is done in their group. Emphasis is on the methodology\, to
  show how the same techniques can be applied in varied types of reseach.\n
 \nThis is an excellent opportunity for networking and finding out if there
  are common grounds for future multidisciplinary collaborations. There wil
 l be plenty of time to mix and mingle\, and posters are presented as well.
  The event is intended for everyone related to Profi7 projects IMMUNOCAP (
 InFLAMES)\, SUSMAT and Human Diversity and who are interested in computati
 onal science. Lunch and coffees are included!\n\n&nbsp\;\n\nPlease registe
 r to the event at latest Monday 3 February 2024 in https://link.webropolsu
 rveys.com/S/173CD9BA3197F350\n\nWe can still accommodate more posters but 
 the talks are now chosen\, check out the detailed programme below. However
 \, if you would like to present your work\, please contact the organizing 
 team and let's see if something can be arranged!\n\n&nbsp\;\nProfi7 Comput
 ational Seminar Day\n10 February 2025\nat 08:45-16:00\nin Cave auditorium\
 , Joki innovation centre\nLemminkäisenkatu 12b\, 20520 Turku\n\n&nbsp\;\n
 \n08:45   Morning coffee with pulla\, and time to hang the posters\n\n09
 :00   Welcome words\, and what are the Profi7 profiling areas all about?
 \nPäivi Onkamo\, Human Diversity\nTapio Lönnberg\, IMMUNOCAPS\nMilica To
 dorović\, SUSMAT\n\n10:00   Stretch break and interactions\n\n10:30  
  PIs from each Profi7 profiling area presenting their research\nFilip Gint
 er\, Human Diversity\nLaura Elo\, IMMUNOCAPS\nAlberto Scacchi\, SUSMAT\n\n
 11:30   Lunch and interactions\n\n12:30   PhD researchers from each Pr
 ofi7 profiling area presenting their research\nSomnath Chindhe and Meeli R
 oose\, Human Diversity\nAntónio Sousa\, IMMUNOCAPS\nNarayan Gupta\, SUSMA
 T\n\n13:30   Posters and interactions\n\n14:30   Coffee and interactio
 ns\n\n15:00   Postdocs from each Profi7 profiling area presenting their 
 research\nMiguel Baltazar Soares\, Human Diversity\nTomi Suomi and Lea Mik
 kola\, IMMUNOCAPS\nKonstantinos Konstantinou\, SUSMAT\n\n16:00   Wrap-up
 \n\n&nbsp\;\n\n&nbsp\;\n\nFor additional information please get in touch w
 ith the event organizing team: Alberto Scacchi\, Tomi Suomi\, Sini Juntti
 la\, Jenna Kanerva\, Aida Nietch\, Maija Lespinasse\, Helen Salminen and 
 Anu Kukkonen-Macchi.\nLooking forward to meeting you all!\n&nbsp\;\n\n\n\n
 The visual image of the event is created by AI using the description of th
 e science done in IMMUNOCAP\, SUSMAT and Human Diversity.
ATTACH;FMTTYPE=image/jpeg:https://inflames.utu.fi/wp-content/uploads/visu-
 nelio.jpg
CATEGORIES:Events in English,Tapahtumat
END:VEVENT
BEGIN:VTIMEZONE
TZID:Europe/Helsinki
X-LIC-LOCATION:Europe/Helsinki
BEGIN:STANDARD
DTSTART:20241027T030000
TZOFFSETFROM:+0300
TZOFFSETTO:+0200
TZNAME:EET
END:STANDARD
END:VTIMEZONE
END:VCALENDAR