BEGIN:VCALENDAR
VERSION:2.0
PRODID:-//wp-events-plugin.com//7.2.3.1//EN
TZID:Europe/Helsinki
X-WR-TIMEZONE:Europe/Helsinki
BEGIN:VEVENT
UID:90@inflames.utu.fi
DTSTART;TZID=Europe/Helsinki:20210517T150000
DTEND;TZID=Europe/Helsinki:20210517T163000
DTSTAMP:20230120T083219Z
URL:https://inflames.utu.fi/events/professor-of-practice-lecture-timo-vero
 maa/
SUMMARY:Professor of Practice Lecture - Timo Veromaa
DESCRIPTION:\n\n\nDr. Timo Veromaa has been appointed as Professor of Pract
 ice in Drug Development. The appointment strengthen the operations of the 
 InFLAMES Flagship\, joint effort of the University of Turku and Åbo Akade
 mi University\, funded by the Academy of Finland. The purpose of the profe
 ssorship of practice in drug development is to introduce more life science
  business and innovation expertise to the University of Turku\, increase c
 ollaboration between the University and pharmaceutical companies\, and hel
 p enable commercialisation of innovations.\n\nTimo Veromaa is an MD\, PhD 
 with a research background and an eMBA from the University of Turku. He ha
 s worked in utive and board level positions in life science and health tec
 hnology companies in Finland\, United States\, Great Britain\, Germany\, S
 weden\, and Switzerland for over 25 years. As the CEO of the drug developm
 ent company Biotie Therapies Plc.\, listed on the stock exchange in Finlan
 d and the U.S.\, Veromaa was responsible for shareholder and investor rela
 tions and for national and international public and private funding agenci
 es.\n\nVeromaa is currently Chairman of the Board of Herantis Pharma Plc\,
  drug development company working on gene therapy and biologics listed on 
 the First North Growth Market stock exchange both in Helsinki and Stockhol
 m\, as well as first Chairman of Finnish Biobanks FINBB. Veromaa has had a
 n active role in various public sector projects of the field\, developing 
 the prerequisites for business activities in Finland and has worked in var
 ious positions of trust.\n\nProfessor of Practice Timo Veromaa will give a
  lecture in open webinar organised on 17 May 2021 at 3 PM. Timo Veromaa’
 s lecture title is Building a globally competitive precision medicine ecos
 ystem in Turku\, Finland.\n\n\n\n\n\nAdditional information\nTimo Veromaas
  Professor of Practice Lecture - Open Webinar\n\n\nKaisa Hakkila\nkaisa.ha
 kkila@utu.fi\n\n
END:VEVENT
BEGIN:VTIMEZONE
TZID:Europe/Helsinki
X-LIC-LOCATION:Europe/Helsinki
BEGIN:DAYLIGHT
DTSTART:20210328T040000
TZOFFSETFROM:+0200
TZOFFSETTO:+0300
TZNAME:EEST
END:DAYLIGHT
END:VTIMEZONE
END:VCALENDAR