BEGIN:VCALENDAR
VERSION:2.0
PRODID:-//wp-events-plugin.com//7.2.3.1//EN
TZID:Europe/Helsinki
X-WR-TIMEZONE:Europe/Helsinki
BEGIN:VEVENT
UID:376@inflames.utu.fi
DTSTART;TZID=Europe/Helsinki:20241204T090000
DTEND;TZID=Europe/Helsinki:20241204T110000
DTSTAMP:20241018T085338Z
URL:https://inflames.utu.fi/events/msc-thesis-project-expo/
SUMMARY:MSc Thesis Project Expo
DESCRIPTION:Are you a biosciences MSc student and wondering from where to f
 ind a lab where to do your MSc thesis?\nAre you running a life-science lab
  and looking for MSc students to join your group?\nCome to the MSc Thesis 
 Project Expo and get hooked up!\n\n\nMSc Thesis Project Expo is a networki
 ng event for bioscience related MSc students and for research groups to me
 et and get to know one another. The event is intended for both domestic an
 d international bioscience related MSc degree students from both Universit
 y of Turku and Åbo Akademi University\, and it replaces the previous rese
 arch group presentation events.\n\nThis is a great opportunity to get visi
 bility for a research group among students\, as well as to recruit new mas
 ter’s degree students!\n\n&nbsp\;\nWhat\, when and where?\nMSc Thesis Pr
 oject Expo: Meet the Research Groups\nWednesday 4 December 2024 at 9.00-11
 .00\nin Cave auditorium\, Visitor Centre Joki\n\n&nbsp\;\nWhy for students
 ?\nIf you are looking for a lab where to do your MSc thesis work\, come to
  the expo\, scout your possibilities and to talk to different research gro
 up members. Also\, UTU and ÅAU recruitment services will be there on-site
  to share their tips on how to write a successful CV\, how to apply for po
 sitions and how to approach people professionally.\n\nInformation from all
  research groups participating to the expo is shared on a Moodle-site. No 
 registration is needed from the students\, just show up!\n\n&nbsp\;\nWhy f
 or research groups?\nHere students from various biosciences backgrounds wi
 ll get to know your project(s) and can network with a representative of yo
 ur group. Get visibility to your group and be sure to recruit the best stu
 dents!\n\nThe event is organized as a poster exhibition\, only one poster 
 (vertical A0) per PI. Register to the event only if you have the possibili
 ty to take a MSc thesis student in the upcoming year. There is place for t
 he first 50 research groups.\n\nRegister your research group to the event 
 at latest 18 November 2024: https://link.webropolsurveys.com/S/EE016D6A1B6
 0FFB6\n\nThe event and the Moodle-site will be promoted to bioscience rela
 ted MSc students from the Faculty of Medicine (UTU)\, Faculty of Science a
 nd Engineering (ÅAU) and Departments of Life Technologies and Biology (UT
 U).\n\n&nbsp\;\nGlögi and gingerbread served\, welcome!\n&nbsp\;\n\n&nbsp
 \;\n\nMore information about the event from:\n\nFaculty of Science and Eng
 ineering (ÅAU): Annika Meinander Annika.Meinander@abo.fi\nDepartments of 
 Life Technologies and Biology (UTU): Anu Salminen anusalmi@utu.fi\nFaculty
  of Medicine (UTU): Nina Vainikka med-mdp@utu.fi\nand from https://www.utu
 .fi/en/news/news/msc-thesis-project-expo-is-arranged-on-4-december-2024-co
 me-along\n\nHealth\, Diagnostics and Drug Development multidisciplinary th
 eme (UTU) is participating to the event arrangements
ATTACH;FMTTYPE=image/jpeg:https://inflames.utu.fi/wp-content/uploads/MSc-T
 hesis-Expo-thumbnail-400px.jpg
CATEGORIES:Events in English,Tapahtumat
END:VEVENT
BEGIN:VTIMEZONE
TZID:Europe/Helsinki
X-LIC-LOCATION:Europe/Helsinki
BEGIN:STANDARD
DTSTART:20241027T030000
TZOFFSETFROM:+0300
TZOFFSETTO:+0200
TZNAME:EET
END:STANDARD
END:VTIMEZONE
END:VCALENDAR