BEGIN:VCALENDAR
VERSION:2.0
PRODID:-//wp-events-plugin.com//7.2.3.1//EN
TZID:Europe/Helsinki
X-WR-TIMEZONE:Europe/Helsinki
BEGIN:VEVENT
UID:197@inflames.utu.fi
DTSTART;TZID=Europe/Helsinki:20221012T103000
DTEND;TZID=Europe/Helsinki:20221012T113000
DTSTAMP:20230120T083411Z
URL:https://inflames.utu.fi/events/mist-program-guest-seminar-maria-gluud-
 grondahl/
SUMMARY:MIST-program guest seminar: Maria Gluud Grøndahl
DESCRIPTION:October 12 at 10:30\non-site event\nMauno Ministeri Auditorium\
 , BioCity\n\n\nMaria Gluud Grøndahl\, LEO Foundation Skin Immunology Rese
 arch Center\, University of Copenhagen\nThe tumor microenvironment of Cuta
 neous T cell lymphoma\n\nCoffee is served before the seminar
ATTACH;FMTTYPE=image/jpeg:https://inflames.utu.fi/wp-content/uploads/2022/
 10/Biocity_400x400.jpg
END:VEVENT
BEGIN:VTIMEZONE
TZID:Europe/Helsinki
X-LIC-LOCATION:Europe/Helsinki
BEGIN:DAYLIGHT
DTSTART:20220327T040000
TZOFFSETFROM:+0200
TZOFFSETTO:+0300
TZNAME:EEST
END:DAYLIGHT
END:VTIMEZONE
END:VCALENDAR