BEGIN:VCALENDAR
VERSION:2.0
PRODID:-//wp-events-plugin.com//7.2.3.1//EN
TZID:Europe/Helsinki
X-WR-TIMEZONE:Europe/Helsinki
BEGIN:VEVENT
UID:373@inflames.utu.fi
DTSTART;TZID=Europe/Helsinki:20241007T003000
DTEND;TZID=Europe/Helsinki:20241007T170000
DTSTAMP:20240920T092547Z
URL:https://inflames.utu.fi/events/minisymposium-macrophage-plasticity-sha
 peshifting-heroes-or-still-villains-2/
SUMMARY:Minisymposium: Macrophage Plasticity: Shapeshifting Heroes or Still
  Villains?
DESCRIPTION:We would like to welcome everyone to participate in the mini-sy
 mposium 'Macrophage Plasticity: Shapeshifting Heroes or Still Villains?' f
 eaturing distinguished guest speakers Burkhard Becher\, Steffen Jung\, and
  Ari Waisman.\n\nThe event is organized by Biocity Turku Research Program 
 MIST: The Multiverse of Immune System and InFLAMES\, the joint research fl
 agship of University of Turku and Åbo Akademi.\n\nThe event will be held 
 on Monday\, October 7 at President Auditorium\, Biocity\, Tykistökatu 6A\
 , Turku\n\nPlease sign up so we know how much of refreshments to order.\n\
 nAbout the speakers\n\nBurkhard Becher is an immunologist at the Institute
  of Experimental Immunology\, at the University of Zurich\, Switzerland. H
 is research focuses on immunotherapy and cytokine communication networks i
 n inflammation. Research group website: https://www.usz.ch/en/department/c
 omprehensive-cancer-center-zuerich/research/research-programs-groups/tumor
 -immunology-program/research-group-burkhard-becher/\n\nSteffen Jung is a P
 rofessor at the Department of Immunology at the Weizmann Institute\, Rehov
 ot\, Israel. His current research focuses on understanding mononuclear pha
 gocytes\, including monocytes\, DCs\, and macrophages. Research group webs
 ite: https://www.weizmann.ac.il/dept/irb/jung/\n\nAri Waisman is a Profess
 or and Director at the University Medical Center of the Johannes Gutenberg
  University\, Institute for Molecular Medicine\, Mainz\, Germany. His rese
 arch focus is the molecular mechanisms leading to autoimmune inflammation 
 with a focus on IL17 function. Homepage: https://www.imb.de/students-postd
 ocs/international-phd-programme/ipp-groups/ari-waisman\n\nSpeakers are ava
 ilable for face-to-face meetings\, so reserve a meeting using the reservat
 ion calendar: Reservation calendars – InFLAMES Research Flagship (utu.fi
 ).\n\nProgram\n\nSpeakers: Burkhard Becher\, Steffen Jung and Ari Waisman\
 n\n12:30–13:00 Coffee/tea\, sandwiches (first come\, first serve)\n13:00
 –14:00 Program\n14:00–14:15 Break\n14:15–15:15 Program\n15:15–15:3
 0 Break\n15:30-16:30 Program\n16:30–17:00 Networking + refreshments\n\nS
 ing up for the seminar: https://konsta.utu.fi/Default.aspx?tabid=88&amp\;t
 ap=19788
ATTACH;FMTTYPE=image/jpeg:https://inflames.utu.fi/wp-content/uploads/macro
 phages-mini-sympo.jpg
CATEGORIES:Events in English,Tapahtumat
END:VEVENT
BEGIN:VTIMEZONE
TZID:Europe/Helsinki
X-LIC-LOCATION:Europe/Helsinki
BEGIN:DAYLIGHT
DTSTART:20240331T040000
TZOFFSETFROM:+0200
TZOFFSETTO:+0300
TZNAME:EEST
END:DAYLIGHT
END:VTIMEZONE
END:VCALENDAR