BEGIN:VCALENDAR
VERSION:2.0
PRODID:-//wp-events-plugin.com//7.2.3.1//EN
TZID:Europe/Helsinki
X-WR-TIMEZONE:Europe/Helsinki
BEGIN:VEVENT
UID:201@inflames.utu.fi
DTSTART;TZID=Europe/Helsinki:20221207T140000
DTEND;TZID=Europe/Helsinki:20221207T160000
DTSTAMP:20230120T083412Z
URL:https://inflames.utu.fi/events/laboratorioverkoston-ajankohtaiset-asia
 t-tilaisuus/
SUMMARY:Laboratorioverkoston ajankohtaiset asiat -tilaisuus
DESCRIPTION:\nIlmoittaudu tapahtumaan\n\n\nTilaisuuden alussa glögitarjoil
 u Naturan ala-aulassa klo 14:00-14:30. Ohjelma Natura IX -salissa klo 14:3
 0-16:00.\n\nIlmoittaudu tilaisuuteen viimeistään to 24.11. klo 16:00.\n\
 nOhjelmassa on ajankohtaista tietoa ja keskustelua ainakin näistä aiheis
 ta:\n- Hankinta ja kestävä kehitys\n- Laboratoriojärjestelmät (sähk
 öiset laboratoriopäiväkirjat\, kemikaalitietokanta\, OpenIris)\n- Tutk
 imusinfrastruktuurit
ATTACH;FMTTYPE=image/jpeg:https://inflames.utu.fi/wp-content/uploads/2022/
 11/Turun_yliopisto_400x400.jpg
END:VEVENT
BEGIN:VTIMEZONE
TZID:Europe/Helsinki
X-LIC-LOCATION:Europe/Helsinki
BEGIN:STANDARD
DTSTART:20221030T030000
TZOFFSETFROM:+0300
TZOFFSETTO:+0200
TZNAME:EET
END:STANDARD
END:VTIMEZONE
END:VCALENDAR