BEGIN:VCALENDAR
VERSION:2.0
PRODID:-//wp-events-plugin.com//7.2.3.1//EN
TZID:Europe/Helsinki
X-WR-TIMEZONE:Europe/Helsinki
BEGIN:VEVENT
UID:351@inflames.utu.fi
DTSTART;TZID=Europe/Helsinki:20240904T090000
DTEND;TZID=Europe/Helsinki:20240904T120000
DTSTAMP:20240826T125403Z
URL:https://inflames.utu.fi/events/kuvantamisen-nobelista-ai-tulevaisuutee
 n/
SUMMARY:Kuvantamisen Nobelista AI-tulevaisuuteen / Från biovisualiserings 
 Nobel till AI-framtid / From imaging Nobel to AI future
DESCRIPTION:Kuvantamisen Nobelista AI-tulevaisuuteen\nKeskiviikkona 4. syys
 kuuta toivotamme professori Stefan Hellin tervetulleeksi Turkuun juhliakse
 mme hänelle myönnetyn Nobelin palkinnon 10. juhlavuotta. Nobel myönnett
 iin hänen Turussa kehittämästään supertarkasta lasermikroskoopista\, 
 joka ylitti aikaisemmin fysiikan lakien mukaan rikkomattomana pidetyn kuva
 ntarkkuusrajan. Tämä on mahdollistanut aivan uudenlaisia edistysaskelia 
 esimerkiksi syöpä- ja virustutkimuksessa sekä lääkekehityksessä.\n\n
 Juhlavuoden kunniaksi kuvantamisen organisaatiot Turku BioImaging ja Euro-
 BioImaging sekä InFLAMES tutkimuksen lippulaiva ja Turun Yliopiston lää
 ketieteellinen tiedekunta järjestävät yhdessä kaikille avoimen kolmiki
 elisen tapahtuman.\n\nTule kokemaan biokuvantamisen taianomainen maailma V
 ierailukeskus Jokeen (BioCityssä)! Voit oppia sen menestyksekkäästä hi
 storiasta ja huikeista tulevaisuudennäkymistä Turussa\, sekä miten teko
 älyn avulla kuvantaminen avaa aivan uudenlaisia näkymiä solujensisäise
 en maailmaan. Tapahtumassa muun muassa\n\n 	       Kuvantamisen kauneut
 ta tutkiva moniaistinen taidenäyttely\n 	       Huippututkijoiden puhe
 envuoroja ja mahdollisuus keskustella heidän kanssaan\n 	       Kakkuk
 ahvitarjoilu tilaisuuden alussa ja musiikkia sekä virvokkeita illan mitta
 an\n\nTilaisuus on ilmainen ja avoin kaikille\, eikä vaadi ilmoittautumis
 ta. Tuo myös perheesi ja ystäväsi mukanasi – kaikki ovat tervetulleit
 a!\n\nMilloin?\n4. syyskuuta 2024\, 14:00-20:00. Pistäydy milloin vain ta
 i vietä vaikka koko aika kanssamme.\n\nMissä?\nVierailukeskus Joki\, Bio
 City\, Lemminkäisenkatu 12b\, 20520 Turku\n\nTarkempi ohjelma julkaistaan
  pian tapahtuman sivulla:\nwww.bioimaging.fi/from-imaging-nobel-to-ai-futu
 re/\nJÄRJESTÄJÄT:\nEuro-BioImaging (eurobioimaging.eu)\nTurku BioImagi
 ng (bioimaging.fi)\, Turun yliopisto ja Åbo Akademi\nInFLAMES (inflames
 .utu.fi)\, Turun yliopisto ja Åbo Akademi\nLääketieteellinen tiedekunta
 \, Turun yliopisto\n\n&nbsp\;\nFRÅN BIOVISUALISERINGS NOBEL TILL AI-FRAMT
 ID\nDen 4 september välkomnar vi professor Stefan Hell till Åbo\, för a
 tt fira 10-årsjubileet av hans Nobelpris. Han fick priset för sitt laser
 mikroskop med superhög upplösning som han utvecklade i Åbo. Uppfinninge
 n bröt resolutionsgränsen man tidigare trodde var obrytbar enligt fysike
 ns lagar\, och möjliggjorde helt nya framsteg inom t.ex. cancer och virus
 forskning samt läkemedelsutveckling.\n\nJubileumsåret till ära ordnar b
 iovisualiseringsorganisationer Turku BioImaging och Euro-BioImaging samt I
 nFLAMES forskningsflaggskepp och Åbo universitets medicinska fakultet til
 lsammans ett speciellt trespråkigt evenemang som är öppet för alla.\n\
 nKom till besökscentret Joki (i BioCity) för att uppleva biovisualiserin
 gens magiska värld! Du kan lära dig om visualiseringens framgångsrika h
 istoria och fenomenala framtid i Åbo\, samt hur artificiell intelligens 
 öppnar helt nya utsikter till cellernas inre värld. I evenemanget ingår
  t.ex.\n\n 	Multisensorisk konstutställning om biovisualiseringens skönh
 et\n 	Inspirerande föredrag av världsledande visualiseringsforskare och 
 möjlighet att diskutera med dem\n 	Kaffe och tårta på eftermiddag samt 
 musik och förfriskningar på kvällen\n\nEvenemanget är gratis och öppe
 t för alla\, ingen anmälning behövs. Ta med din familj och vänner – 
 alla är välkomna!\n\nNär?\n4 september 2024\, 14:00-20:00. Hälsa på n
 är som helst eller stanna med oss hela tiden.\n\nVar?\nBesökscenter Joki
 \, BioCity\, Lemminkäinengatan 12b\, 20520 Åbo\n\nProgrammet publiceras 
 snart på evenemangets sida:\nwww.bioimaging.fi/from-imaging-nobel-to-ai-f
 uture/\nARRANGÖRER:\nEuro-BioImaging (eurobioimaging.eu)\nTurku BioImagi
 ng (bioimaging.fi)\, Åbo universitet och Åbo Akademi\nInFLAMES (inflam
 es.utu.fi)\,  Åbo universitet och Åbo Akademi\nMedicinska fakulteten\, 
 Åbo universitet\n\n&nbsp\;\nFROM IMAGING NOBEL TO AI FUTURE\nOn 4th Septe
 mber\, Professor Stefan Hell is visiting Turku and we are celebrating the 
 10th anniversary of his Nobel Prize award for super-resolution microscopy.
  On that day\, four prominent organisations in the imaging field\, Euro-Bi
 oImaging\, Turku BioImaging\, InFLAMES Flagship and Faculty of Medicine\, 
 University of Turku will organise a special trilingual event for our scien
 tific community as well as for the general public.\n\nCome to the Visitor 
 Centre Joki in BioCity to learn about the successful past and bright futur
 e of imaging in Turku. You will get a chance to enjoy:\n\n 	Multisensorial
  art exhibition exploring the beauty of imaging \n 	Inspiring talks by wo
 rld-class imaging researchers\n 	Networking over coffee and cake in the af
 ternoon and more refreshments in the evening hours plus a taste of musical
  performance\n\nNo registration is needed\, the event is free and open to 
 the general public. Save the date\, spread the word and bring your family 
 and friends with you. Everyone is welcome!\n\nWhen?\n4th September\, 2024\
 , 14:00 - 20:00\nWhere?\nVisitor Centre Joki\, BioCity Turku\, Lemminkäis
 enkatu 12b\, 20520 Turku\n\nFor more information visit: \nwww.bioimaging.
 fi/from-imaging-nobel-to-ai-future/\n\nWe are looking forward to seeing yo
 u on 4th September in BioCity!\nORGANIZERS:\nEuro-BioImaging (eurobioimag
 ing.eu)\nTurku BioImaging (bioimaging.fi)\, University of Turku and Åbo 
 Akademi University\nInFLAMES (inflames.utu.fi)\, University of Turku and 
 Åbo Akademi University\nFaculty of Medicine\, University of Turku
ATTACH;FMTTYPE=image/jpeg:https://inflames.utu.fi/wp-content/uploads/logo-
 horizontal_2.png
CATEGORIES:Events in English,Tapahtumat
END:VEVENT
BEGIN:VTIMEZONE
TZID:Europe/Helsinki
X-LIC-LOCATION:Europe/Helsinki
BEGIN:DAYLIGHT
DTSTART:20240331T040000
TZOFFSETFROM:+0200
TZOFFSETTO:+0300
TZNAME:EEST
END:DAYLIGHT
END:VTIMEZONE
END:VCALENDAR