BEGIN:VCALENDAR
VERSION:2.0
PRODID:-//wp-events-plugin.com//7.2.3.1//EN
TZID:Europe/Helsinki
X-WR-TIMEZONE:Europe/Helsinki
BEGIN:VEVENT
UID:449@inflames.utu.fi
DTSTART;TZID=Europe/Helsinki:20251030T160000
DTEND;TZID=Europe/Helsinki:20251030T180000
DTSTAMP:20251030T134915Z
URL:https://inflames.utu.fi/events/key-elements-in-leading-a-pharmaceutica
 l-company/
SUMMARY:Key elements in leading a pharmaceutical company lecture series
DESCRIPTION:Lecture series: Key elements in leading a pharmaceutical compan
 y\nThe lecture series introduces key concepts in the pharmaceutical indust
 ry\, presented by industry practitioners.\n\nWhen: 30.10.2025—13.11.2025
 \nTime: 16:00—18:00\nWhere: Säätiö lecture room\, Medisiina D (Kiinam
 yllynkatu 10\, Turku)\nLeader: InFLAMES Professor of Practice Timo Lappala
 inen\n\nThe lecture dates and speakers:\nOctober 30: Introduction to the c
 ourse - Professor of Practice Timo Lappalainen\nNovember 3: Project manage
 ment in pharma - Dr. Michael Dwyer\, Merck &amp\; Co.\nNovember 4: Regulat
 ory affairs - Joanne Slee\, Orion Corporation\nNovember 5: Managing produc
 t supply in pharma - Dr. Peter Jurecka\, Bayer Consumer Care AG\nNovember 
 10: Quality in pharma - Päivi Järvelä\, University of Helsinki\nNovembe
 r 11: Business development - Jukka Muhonen\, AllianceXConsulting\nNovember
  12: Global product launch - Jaakko Linna\, Novo Nordisk Farma Oy\nNovembe
 r 13: Conclusions and closing remarks - Professor of Practice Timo Lappala
 inen
ATTACH;FMTTYPE=image/jpeg:https://inflames.utu.fi/wp-content/uploads/Timo-
 Lappalainen-jpg.png
CATEGORIES:Events in English,Tapahtumat
END:VEVENT
BEGIN:VTIMEZONE
TZID:Europe/Helsinki
X-LIC-LOCATION:Europe/Helsinki
BEGIN:STANDARD
DTSTART:20251026T030000
TZOFFSETFROM:+0300
TZOFFSETTO:+0200
TZNAME:EET
END:STANDARD
END:VTIMEZONE
END:VCALENDAR