BEGIN:VCALENDAR
VERSION:2.0
PRODID:-//wp-events-plugin.com//7.2.3.1//EN
TZID:Europe/Helsinki
X-WR-TIMEZONE:Europe/Helsinki
BEGIN:VEVENT
UID:195@inflames.utu.fi
DTSTART;TZID=Europe/Helsinki:20221102T150000
DTEND;TZID=Europe/Helsinki:20221102T160000
DTSTAMP:20230120T083412Z
URL:https://inflames.utu.fi/events/inside-industry-lassi-liljeroos/
SUMMARY:Inside Industry: Lassi Liljeroos
DESCRIPTION:Inside Industry InFLAMES lecture series\n\nNovember 2nd at 15:0
 0\non-site event\nSäätiö-Sali\, Medisiina D\nCoffee and baked goods ser
 ved before the seminar\n\n\n\nLassi Liljeroos\, Roche\nMoving from academi
 a to pharma industry: what's different\, what's similar and is it for me?\
 n\nHosted by Professor of Practice Timo Veromaa\n\nLassi Liljeroos is a Pe
 rsonalised healthcare and genome profiling partner at Roche. He is an expe
 rt in pharma medical affairs and early vaccine development with multidisci
 plinary team leadership experience in personalized healthcare\, with a foc
 us on oncology. He is a professional in distilling complex information int
 o clear and executable strategies and tangible results and experienced in 
 managing investigator initiated clinical studies\, leading RWD projects an
 d supporting clinical trials. His key areas of expertise are wide and vari
 ed\, including but not limited to personalized and precision medicine\, bi
 omarkers\, cancer\, real-world data and x-ray crystallography. Please see 
 the full list and his profile in his Linkedin page: www.linkedin.com/in/la
 ssililjeroos
ATTACH;FMTTYPE=image/jpeg:https://inflames.utu.fi/wp-content/uploads/2022/
 10/Lassi_Liljeroos.png
END:VEVENT
BEGIN:VTIMEZONE
TZID:Europe/Helsinki
X-LIC-LOCATION:Europe/Helsinki
BEGIN:STANDARD
DTSTART:20221030T030000
TZOFFSETFROM:+0300
TZOFFSETTO:+0200
TZNAME:EET
END:STANDARD
END:VTIMEZONE
END:VCALENDAR