BEGIN:VCALENDAR
VERSION:2.0
PRODID:-//wp-events-plugin.com//7.2.3.1//EN
TZID:Europe/Helsinki
X-WR-TIMEZONE:Europe/Helsinki
BEGIN:VEVENT
UID:474@inflames.utu.fi
DTSTART;TZID=Europe/Helsinki:20260318T140000
DTEND;TZID=Europe/Helsinki:20260318T150000
DTSTAMP:20260306T081425Z
URL:https://inflames.utu.fi/events/inflames-visitor-introductory-seminar-a
 ction-creates-opportunity-raivo-uibos-scientific-career-path/
SUMMARY:InFLAMES visitor introductory seminar: Action creates opportunity: 
 Raivo Uibo’s scientific career path
DESCRIPTION:Welcome to the introductory seminar by InFLAMES visitor\, Profe
 ssor Raivo Uibo from the University of Tartu!\n\nSpeaker: Professor Raivo 
 Uibo\, University of Tartu\nTitle: Action creates opportunity: Raivo Uibo
 ’s scientific career path\nTime: March 18\, at 14:00\nLocation: Arje Sch
 einin lecture hall\, Dentalia\n\nYoung scientist lunch event: Doctoral Res
 earchers\, Postdocs\, and other interested are invited to join Raivo for a
  pre-seminar early-career scientist lunch event with him. The lunch is at 
 12:00 in Bistro Elli\, Sokos Hotel Kupittaa. InFLAMES will cover the cost 
 of the lunch\, but seating is limited and free registration is required. P
 lease register here: https://link.webropol.com/s/uibo-lunch.\n\nAbout the 
 speaker:\n\nRaivo Uibo is a Professor of Immunology and Head of the Depart
 ment of Immunology at the Institute of Biomedicine and Translational Medic
 ine\, University of Tartu. He is a member of the Estonian Academy of Scien
 ces.\n\nR. Uibo graduated with an MD degree and obtained a PhD degree in I
 nternal Medicine from the University of Tartu in 1978. In 1990\, he receiv
 ed a DMSci degree from the University of Tampere. He completed postgraduat
 e stays at the University of Tampere (immunopathology)\, Monash University
  (immunology)\, and Brussels University (IRIBHN\, molecular medicine). Lat
 er\, he worked as a visiting scientist at Turku University (2005)\, Lund U
 niversity (2008)\, and University College London (2018).\n\nSample publica
 tions:\n\nAlnek K\, Tagoma A\, Metsküla K\, Talja I\, Janson H\, Mandel M
 \, Vorobjova T\, Oras A\, Sepp H\, Pruul K\, Reimand K\, Simonen T\, Peet 
 A\, Reppo I\, Tammiksaar K\, Lubi M\, Heilman K\, Einberg Ü\, Kisand K\, 
 Lember M\, Tillmann V\, Uibo R. Comparison of immunological and immunogene
 tic markers in recent-onset type 1 diabetes among children and adults.  S
 ci Rep. 2025 May 3\;15(1):15491. doi: 10.1038/s41598-025-99664-8.\n\nPeter
 son C\, Tagoma A\, Alnek K\, Bärenson A\, Vorobjova T\, Talja I\, Janson 
 H\, Kirss A\, Kõljalg S\, Sinkkonen A\, Roslund MI\, Uibo R\; HEDIMED Inv
 estigator Group\; Antibodies against Clostridium butyricum in the childre
 n of mothers at risk for gestational diabetes. Immunol Med. 2025 Dec\;48(4
 ):346-356. doi: 10.1080/25785826.2025.2504021. Epub 2025 May 23. PMID: 404
 06906
ATTACH;FMTTYPE=image/jpeg:https://inflames.utu.fi/wp-content/uploads/Raivo
 -Uibo-square.jpg
CATEGORIES:Events in English,Tapahtumat
END:VEVENT
BEGIN:VTIMEZONE
TZID:Europe/Helsinki
X-LIC-LOCATION:Europe/Helsinki
BEGIN:STANDARD
DTSTART:20251026T030000
TZOFFSETFROM:+0300
TZOFFSETTO:+0200
TZNAME:EET
END:STANDARD
END:VTIMEZONE
END:VCALENDAR