BEGIN:VCALENDAR
VERSION:2.0
PRODID:-//wp-events-plugin.com//7.2.3.1//EN
TZID:Europe/Helsinki
X-WR-TIMEZONE:Europe/Helsinki
BEGIN:VEVENT
UID:347@inflames.utu.fi
DTSTART;TZID=Europe/Helsinki:20240613T130000
DTEND;TZID=Europe/Helsinki:20240613T140000
DTSTAMP:20240604T145811Z
URL:https://inflames.utu.fi/events/inflames-visiting-professor-seminar-gwe
 ndalyn-randolph-3/
SUMMARY:InFLAMES Visiting Professor seminar: Gwendalyn Randolph (3)
DESCRIPTION:InFLAMES Visiting Professor Seminar\nProfessor Gwendalyn Randol
 ph\, Department of Pathology &amp\; Immunology\, Washington University Sch
 ool of Medicine\nTitle: “Investigating lymphatic and venous outflow from
  the intestine in health and disease”\nWhere: Arje Scheinin lecture room
 \, Dentalia\nWhen: Thursday June 13\, at 13-14\n\nInFLAMES Visiting Profes
 sor Gwendalyn Randolph from the Department of Pathology &amp\; Immunology 
 at the Washington University School of Medicine will be in Turku between J
 une 10-14. During her stay she will be giving three seminars\, all open to
  everybody. Her second Thursday seminar is titled Investigating lymphatic 
 and venous outflow from the intestine in health and disease.\n\nWelcome! S
 he will also be available for meetings during her stay\, so please reserve
  a meeting with her using the reservation calendar on the InFLAMES website
 : Reservation calendars - InFLAMES Research Flagship (utu.fi).\n\nHer othe
 r seminars:\n\nSeminar 1: “Getting out there—luck\, fortitude\, awe—
 my career development story”\nTuesday\, June 11\, Säätiö-Sali\, Medis
 iina D\, 11:00–12:00\n\nSeminar 2: “Peritoneal macrophages and periton
 eal pathophysiology.”\nThursday\, June 13\, Arje Scheinin Lecture room\,
  Dentalia\, 12:00–13:00\n\nAbout Professor Randolph:\n\nPhD Gwendalyn J.
  Randolph is a Emil R. Unanue Distinguished Professor at the Department of
  Pathology &amp\; Immunology at the Washington University School of Medici
 ne. She has built her career on the research of the trafficking of cellula
 r and molecular cargo out of tissues to distal lymph nodes or downstream o
 rgans and the relationship of such trafficking to chronic inflammatory dis
 ease.\n\nGwendalyn has over 180 peer reviewed publications which have been
  cited over 31 000 times combined. She has years of experience in providi
 ng education and is widely responsible for the immunological research in h
 er current university. She has also held the position of scientific adviso
 r in multiple scientific committees and companies\, including VaxDesign\, 
 Inc.\, Merck Sharp &amp\; Dohme Corp.
ATTACH;FMTTYPE=image/jpeg:https://inflames.utu.fi/wp-content/uploads/GwenR
 andolphHeadShot-3.jpg
CATEGORIES:Events in English,Tapahtumat
END:VEVENT
BEGIN:VTIMEZONE
TZID:Europe/Helsinki
X-LIC-LOCATION:Europe/Helsinki
BEGIN:DAYLIGHT
DTSTART:20240331T040000
TZOFFSETFROM:+0200
TZOFFSETTO:+0300
TZNAME:EEST
END:DAYLIGHT
END:VTIMEZONE
END:VCALENDAR