BEGIN:VCALENDAR
VERSION:2.0
PRODID:-//wp-events-plugin.com//7.2.3.1//EN
TZID:Europe/Helsinki
X-WR-TIMEZONE:Europe/Helsinki
BEGIN:VEVENT
UID:345@inflames.utu.fi
DTSTART;TZID=Europe/Helsinki:20240611T110000
DTEND;TZID=Europe/Helsinki:20240611T120000
DTSTAMP:20240604T145449Z
URL:https://inflames.utu.fi/events/inflames-visiting-professor-seminar-gwe
 ndalyn-randolph-1/
SUMMARY:InFLAMES Visiting Professor Seminar: Gwendalyn Randolph (1)
DESCRIPTION:InFLAMES Visiting Professor Seminar\nProfessor Gwendalyn Randol
 ph\, Department of Pathology &amp\; Immunology\, Washington University Sch
 ool of Medicine\nTitle: “Getting out there—luck\, fortitude\, awe—my
  career development story”\nWhere: Säätiö-Sali\, Medisiina D\nWhen: T
 uesday June 11\, at 11-12\n\nInFLAMES Visiting Professor Gwendalyn Randolp
 h from the Department of Pathology &amp\; Immunology at the Washington Uni
 versity School of Medicine will be in Turku between June 10-14. During her
  stay she will be giving three seminars\, all open to everybody. The first
  one is an introductory seminar titled Getting out there—luck\, fortitud
 e\, awe—my career development story.\n\nCoffee\, tea and sandwiches will
  be served before the seminar. Welcome! She will also be available for mee
 tings during her stay\, so please reserve a meeting with her using the res
 ervation calendar on the InFLAMES website: Reservation calendars - InFLAME
 S Research Flagship (utu.fi).\n\nHer other seminars:\n\nSeminar 2: “Peri
 toneal macrophages and peritoneal pathophysiology”\nThursday\, June 13\,
  Arje Scheinin Lecture room\, Dentalia\, 12:00–13:00\n\nSeminar 3: “In
 vestigating lymphatic and venous outflow from the intestine in health and 
 disease.”\nThursday\, June 13\, Arje Scheinin Lecture room\, Dentalia\, 
 13:00–14:00\n\nAbout Professor Randolph:\n\nPhD Gwendalyn J. Randolph is
  a Emil R. Unanue Distinguished Professor at the Department of Pathology &
 amp\; Immunology at the Washington University School of Medicine. She has 
 built her career on the research of the trafficking of cellular and molecu
 lar cargo out of tissues to distal lymph nodes or downstream organs and th
 e relationship of such trafficking to chronic inflammatory disease.\n\nGwe
 ndalyn has over 180 peer reviewed publications which have been cited over 
 31 000 times combined. She has years of experience in providing education
  and is widely responsible for the immunological research in her current u
 niversity. She has also held the position of scientific advisor in multipl
 e scientific committees and companies\, including VaxDesign\, Inc.\, Merck
  Sharp &amp\; Dohme Corp.
ATTACH;FMTTYPE=image/jpeg:https://inflames.utu.fi/wp-content/uploads/GwenR
 andolphHeadShot-3.jpg
CATEGORIES:Events in English,Tapahtumat
END:VEVENT
BEGIN:VTIMEZONE
TZID:Europe/Helsinki
X-LIC-LOCATION:Europe/Helsinki
BEGIN:DAYLIGHT
DTSTART:20240331T040000
TZOFFSETFROM:+0200
TZOFFSETTO:+0300
TZNAME:EEST
END:DAYLIGHT
END:VTIMEZONE
END:VCALENDAR