BEGIN:VCALENDAR
VERSION:2.0
PRODID:-//wp-events-plugin.com//7.2.3.1//EN
TZID:Europe/Helsinki
X-WR-TIMEZONE:Europe/Helsinki
BEGIN:VEVENT
UID:162@inflames.utu.fi
DTSTART;TZID=Europe/Helsinki:20220610T140000
DTEND;TZID=Europe/Helsinki:20220610T150000
DTSTAMP:20230120T083320Z
URL:https://inflames.utu.fi/events/inflames-visiting-professor-lecture-ten
 g-leong-chew/
SUMMARY:InFLAMES Visiting Professor Lecture: Teng-Leong Chew
DESCRIPTION:Welcome to the InFLAMES Visiting Professor lecture by Professor
  Teng-Leong Chew! The lecture is held on Friday\, June 10th at 14-15 in Me
 disiina D lecture hall Lauren 2. Coffee\, tea and cookies are served on-si
 te before the seminar.\n\n&nbsp\;\n\nIt’s also possible to participate v
 ia Zoom:\n\nhttps://utu.zoom.us/j/66116584353\n\n&nbsp\;\n\nShort biograph
 y of Professor Chew:\n\n\n\n&nbsp\;\n\nAfter obtaining a BS in Biochemistr
 y at the University of Wisconsin-Madison\, Teng-Leong Chew went to St. Lou
 is University to pursue his PhD\, where he worked to understand the role o
 f myosin II regulation in endothelial cells. Realizing that conventional b
 iochemical methods could not address the spatial and temporal regulation o
 f signaling pathways inside the cell\, Chew embarked on his postdoctoral r
 esearch in the laboratory of Rex Chisholm by developing fluorescent biosen
 sor to simultaneously monitor the enzymatic activity and localization patt
 ern of myosin light chain kinase in vivo. Since then he has worked on mult
 iple leading and directional positions\, such as the director of the Cente
 r for Advanced Microscopy at Feinberg School of Medicine\, Northwestern Un
 iversity.\n\n&nbsp\;\n\nSince 2014 Professor Chew has been the Director of
  Advanced Imaging Center (AIC)\, Howard Hughes Medical Institute\, Janelia
  Research Campus)\, the leading institute in the world in the development 
 of microscopy. He leads the effort in building the unique collaborative im
 aging center that serves as the gateway through which the wider scientific
  world can access Janelia’s cutting-edge microscopy capabilities. The AI
 C led by Dr Chew is an esteemed research centre in the world open to all r
 esearchers and the visiting research groups can use the instruments\, cost
 -free. This infrastructure is not available anywhere else.
ATTACH;FMTTYPE=image/jpeg:https://inflames.utu.fi/wp-content/uploads/2022/
 06/Teng-Leong-Chew.jpg
END:VEVENT
BEGIN:VTIMEZONE
TZID:Europe/Helsinki
X-LIC-LOCATION:Europe/Helsinki
BEGIN:DAYLIGHT
DTSTART:20220327T040000
TZOFFSETFROM:+0200
TZOFFSETTO:+0300
TZNAME:EEST
END:DAYLIGHT
END:VTIMEZONE
END:VCALENDAR