BEGIN:VCALENDAR
VERSION:2.0
PRODID:-//wp-events-plugin.com//7.2.3.1//EN
TZID:Europe/Helsinki
X-WR-TIMEZONE:Europe/Helsinki
BEGIN:VEVENT
UID:166@inflames.utu.fi
DTSTART;TZID=Europe/Helsinki:20220822T100000
DTEND;TZID=Europe/Helsinki:20220822T110000
DTSTAMP:20230120T083320Z
URL:https://inflames.utu.fi/events/inflames-visiting-professor-lecture-mar
 k-ansel/
SUMMARY:InFLAMES Visiting Professor Lecture: Mark Ansel
DESCRIPTION:Welcome to InFLAMES Visiting Professor lecture by Dr. Mark Anse
 l on Monday August 22nd. The talk is titled “IL31 mediates neuro-immune 
 crosstalk in allergic inflammation” and will be held at 10.00 am in Arje
  Scheinin auditorium in Dentalia building.\n\n&nbsp\;\n\nDr. Mark Ansel i
 s InFLAMES Visiting Professor from University of California where he is pr
 ofessor of immunology. Dr. Mark Ansel studies the molecular mechanisms tha
 t control miRNA homeostasis and extracellular release by lymphocytes\, and
  determine how the miRNA repertoire is so dramatically remodeled during ac
 tivation. He also aims to chracterize the function of RBPs and individual 
 miRNAs that regulate T cell differentiation and immune effector functions.
  Ansel lab has developed a screening technology that allows them to rapidl
 y determine which specific miRNAs regulate each of these T cell behaviors\
 , and pipelines for determining miRNA expression patterns in very small cl
 inical samples.\nDr. Mark Ansel homepage: https://profiles.ucsf.edu/mark.
 ansel\n\n&nbsp\;\n\nCoffee\, tea and cookies will be served before the sem
 inar.\n\nFor any questions or inquiries please contact InFLAMES Research C
 oordinator Sampo Koivunen at sampo.koivunen@utu.fi\n\n&nbsp\;\n\nSampo Ko
 ivunen is inviting you to a scheduled Zoom meeting.\n\nJoin Zoom Meeting\n
 \nhttps://utu.zoom.us/j/64047988086\n\n&nbsp\;\n\nMeeting ID: 640 4798 808
 6
ATTACH;FMTTYPE=image/jpeg:https://inflames.utu.fi/wp-content/uploads/2022/
 08/mark_ansel.jpg
END:VEVENT
BEGIN:VTIMEZONE
TZID:Europe/Helsinki
X-LIC-LOCATION:Europe/Helsinki
BEGIN:DAYLIGHT
DTSTART:20220327T040000
TZOFFSETFROM:+0200
TZOFFSETTO:+0300
TZNAME:EEST
END:DAYLIGHT
END:VTIMEZONE
END:VCALENDAR