BEGIN:VCALENDAR
VERSION:2.0
PRODID:-//wp-events-plugin.com//7.2.3.1//EN
TZID:Europe/Helsinki
X-WR-TIMEZONE:Europe/Helsinki
BEGIN:VEVENT
UID:394@inflames.utu.fi
DTSTART;TZID=Europe/Helsinki:20250206T140000
DTEND;TZID=Europe/Helsinki:20250206T160000
DTSTAMP:20250130T072253Z
URL:https://inflames.utu.fi/events/inflames-seminar-extracellular-vesicles
 -in-immunology/
SUMMARY:InFLAMES Flagship seminar: Extracellular Vesicles in Immunology
DESCRIPTION:Welcome to the InFLAMES Flagship seminar! This EV-focused semin
 ar is organized in collaboration with the Finnish Society for Extracellula
 r Vesicles (FISEV) and will start with a keynote presentation by Professor
  Edit Buzás\, followed by two EV talks from FISEV members. \n\nWhen: F
 ebruary 6 at 14:00–16:00\nWhere: Medisiina D\, Säätiö lecture hall\n
 Hosts: FISEV Local Organizing Committee\n\nProgramme:\n\n14:00 Professor
  Edit Buzás\, Semmelweis University (HUN): "An Extracellular Vesicle Per
 spective on Immunology”\n15:00 Professor  Tarja Malm\, UEF: “Extrace
 llular vesicles as intercellular messengers in ischemic stroke”\n15:30 A
 cademy Research Fellow Saara Hämälistö\, UTU: " Expansion microscopy 
 enables fluorescent visualization and morphology assessment of single extr
 acellular vesicles – insights into B cell lymphoma vesicles and beyond"\
 n16:00 inFLAMES Seminar ends and kick-off for the FISEV2025 annual meeting
 \n\nCoffee\, tea\, and pulla are served\, and it is possible to have a one
 -on-one discussion with Prof. Buzás\, before the seminar\, please contact
  Janne Leivo (jpleiv@utu.fi) for more information. \n\nInterested to learn
  more about EVs and EV research in Finland? See our program and details on
  registration for the FISEV Annual Meeting here (https://www.fisev.fi/meet
 ings/fisev-annual-meeting/)\n\nProf. Edit Buzás is an immunologist and a 
 leading expert in extracellular vesicle (EV) research. As Chair of the Dep
 artment of Genetics\, Cell-\, and Immunobiology at Semmelweis University\,
  her work has significantly advanced the understanding of EVs\, particular
 ly their role in immunological processes. Her research focuses on the isol
 ation and characterization of EVs and their functional relevance in health
  and disease\, emphasizing their potential as biomarkers and therapeutic t
 ools. Prof. Buzás has played a pivotal role in shaping the field of EV r
 esearch\, contributing to standardizing EV measurement and elucidating the
 ir immunomodulatory mechanisms. Her groundbreaking findings have been reco
 gnized internationally\, and in 2022 she was elected President of the Inte
 rnational Society for Extracellular Vesicles (ISEV).
ATTACH;FMTTYPE=image/jpeg:https://inflames.utu.fi/wp-content/uploads/FISEV
 .png
CATEGORIES:Events in English,Tapahtumat
END:VEVENT
BEGIN:VTIMEZONE
TZID:Europe/Helsinki
X-LIC-LOCATION:Europe/Helsinki
BEGIN:STANDARD
DTSTART:20241027T030000
TZOFFSETFROM:+0300
TZOFFSETTO:+0200
TZNAME:EET
END:STANDARD
END:VTIMEZONE
END:VCALENDAR