BEGIN:VCALENDAR
VERSION:2.0
PRODID:-//wp-events-plugin.com//7.2.3.1//EN
TZID:Europe/Helsinki
X-WR-TIMEZONE:Europe/Helsinki
BEGIN:VEVENT
UID:349@inflames.utu.fi
DTSTART;TZID=Europe/Helsinki:20240625T100000
DTEND;TZID=Europe/Helsinki:20240625T104500
DTSTAMP:20240605T063450Z
URL:https://inflames.utu.fi/events/inflames-paneeli-suomiareenassa/
SUMMARY:InFLAMES-paneeli SuomiAreenassa
DESCRIPTION:InFLAMES osallistuu Porissa kesäkuussa heti juhannuksen jälke
 en pidettävään yhteiskunnalliseen SuomiAreena-tapahtumaan.\n\nJärjest
 ämme tapahtumassa 25. kesäkuuta kello 10:00 paneelikeskustelun\, jonka a
 iheena on Vahva vastustuskyky – luonnon lahja vai taitolaji? Olemme ää
 nessä Rannan lavalla\, joka sijaitsee Porin sillan kupeessa\, vierasvenes
 ataman tuntumassa.\n\nPaneelin keskustelijoita ovat professori Juhani Knuu
 ti\, professori Kirsi Pietiläinen\, professori Jyrki Korkeila ja lääkä
 ri\, painonnostaja Anni Vuohijoki. Puhetta johtaa toimittaja Markku Sandel
 l.\n\n&nbsp\;
ATTACH;FMTTYPE=image/jpeg:https://inflames.utu.fi/wp-content/uploads/Olemm
 eMukana-3.jpg
CATEGORIES:Tapahtumat
END:VEVENT
BEGIN:VTIMEZONE
TZID:Europe/Helsinki
X-LIC-LOCATION:Europe/Helsinki
BEGIN:DAYLIGHT
DTSTART:20240331T040000
TZOFFSETFROM:+0200
TZOFFSETTO:+0300
TZNAME:EEST
END:DAYLIGHT
END:VTIMEZONE
END:VCALENDAR