BEGIN:VCALENDAR
VERSION:2.0
PRODID:-//wp-events-plugin.com//7.2.3.1//EN
TZID:Europe/Helsinki
X-WR-TIMEZONE:Europe/Helsinki
BEGIN:VEVENT
UID:297@inflames.utu.fi
DTSTART;TZID=Europe/Helsinki:20240126T110000
DTEND;TZID=Europe/Helsinki:20240126T120000
DTSTAMP:20231211T084113Z
URL:https://inflames.utu.fi/events/inflames-laakaripaivilla-liekeissa-nyt-
 immunologia-klinikassa/
SUMMARY:InFLAMES Lääkäripäivillä: Liekeissä nyt – immunologia klini
 kassa
DESCRIPTION:Immunologinen tutkimus muuttaa nopeasti käsityksiämme sairauk
 sien perimmäisistä syistä ja niiden hoidoista. Miten hoidamme tulevaisu
 udessa MS-tautia ja voiko immunologia tarjota ratkaisun rintasyöpäleikka
 uksen jälkeisiin komplikaatioihin\, muun muassa näihin kysymyksiin saat 
 vastaukset InFLAMES-tutkijoiden tietoiskuissa Areenalavalla.  Käväisemm
 e myös tekoälyn maailmassa ja kysymme\, tekeekö tekoäly lääkäristä
  tarpeettoman.\n\nAkateemikko\, InFLAMESin johtaja Sirpa Jalkanen\, Turun 
 yliopisto\nPlastiikkakirurgi\, erikoistutkija Pauliina Hartiala\, TYKS\nNe
 uroimmunologian professori Laura Airas\, Turun yliopisto\, PET-keskus\nApu
 laisprofessori Pekka Ruusuvuori\, Turun yliopisto\, biolääketieteen lait
 os
ATTACH;FMTTYPE=image/jpeg:https://inflames.utu.fi/wp-content/uploads/Laaka
 ripaivat_2024_C.png
CATEGORIES:Tapahtumat
END:VEVENT
BEGIN:VTIMEZONE
TZID:Europe/Helsinki
X-LIC-LOCATION:Europe/Helsinki
BEGIN:STANDARD
DTSTART:20231029T030000
TZOFFSETFROM:+0300
TZOFFSETTO:+0200
TZNAME:EET
END:STANDARD
END:VTIMEZONE
END:VCALENDAR