BEGIN:VCALENDAR
VERSION:2.0
PRODID:-//wp-events-plugin.com//7.2.3.1//EN
TZID:Europe/Helsinki
X-WR-TIMEZONE:Europe/Helsinki
BEGIN:VEVENT
UID:435@inflames.utu.fi
DTSTART;TZID=Europe/Helsinki:20250903T110000
DTEND;TZID=Europe/Helsinki:20250903T120000
DTSTAMP:20250829T124741Z
URL:https://inflames.utu.fi/events/inflames-guest-seminar-by-professor-elt
 zschig-holger-the-hypoxia-inflammation-link/
SUMMARY:InFLAMES Guest Seminar by Professor Eltzschig Holger: The Hypoxia-I
 nflammation Link
DESCRIPTION:When: September 3\, 2025 at 11:00–12:00\nWhere: Arje Scheinin
  lecture hall\, Dentalia\nSpeaker: Professor Holger Eltzschig\, McGovern M
 edical School\nTitle: The Hypoxia-Inflammation Link\nHost: Senior Research
  Fellow Gennadi Egutkin\n\nAfter the seminar there will be an early-career
  scientist lunch event where Doctoral Researchers\, Postdocs\, and other i
 nterested persons are invited to join Professor Holger for lunch and free 
 discussion. InFLAMES will cover the cost. There is limited seating\, so re
 gistration is required. Register for the lunch here: https://link.webropol
 .com/s/lunch-eltzschig.\n\nAbout Professor Holger:\n\nProfessor Eltzschig 
 is a physician-scientist trained in anesthesiology\, cardiac anesthesia\, 
 and critical care medicine whose research is focused on hypoxia-inducible 
 transcription factors (HIFs) during perioperative organ injury. Studies fr
 om his laboratory revealed that HIFs are stabilized during acute injury of
  the lungs\, kidney\, intestine\, or heart. Translational studies demonstr
 ate that these pathways can be targeted for disease treatment.\n\nHis focu
 s is on defining therapeutic strategies to dampen harmful inflammation usi
 ng pharmacologic HIF activators\, direct targets of HIFs\, or HIF-regulate
 d microRNAs. The findings of their translational research have been taken 
 into randomized clinical trials to define therapeutic interventions for pr
 eventing or treating organ injury in surgical patients or during critical 
 illness (e.g. W81XWH2110032\; PI: Eltzschig).\n\nHe has extensive experien
 ce as a scientific mentor\, having mentored over 90 researchers and facult
 y members of different career levels\, including students\, postdoctoral r
 esearchers and clinical fellows.\n\n&nbsp\;\n\n&nbsp\;
ATTACH;FMTTYPE=image/jpeg:https://inflames.utu.fi/wp-content/uploads/Holge
 r.jpg
CATEGORIES:Events in English,Tapahtumat
LOCATION:Arje Scheinin lecture hall\, Dentalia\, Lemminkäisenkatu 2\, Turk
 u\, Finland
X-APPLE-STRUCTURED-LOCATION;VALUE=URI;X-ADDRESS=Lemminkäisenkatu 2\, Turku
 \, Finland;X-APPLE-RADIUS=100;X-TITLE=Arje Scheinin lecture hall\, Dentali
 a:geo:0,0
END:VEVENT
BEGIN:VTIMEZONE
TZID:Europe/Helsinki
X-LIC-LOCATION:Europe/Helsinki
BEGIN:DAYLIGHT
DTSTART:20250330T040000
TZOFFSETFROM:+0200
TZOFFSETTO:+0300
TZNAME:EEST
END:DAYLIGHT
END:VTIMEZONE
END:VCALENDAR