BEGIN:VCALENDAR
VERSION:2.0
PRODID:-//wp-events-plugin.com//7.2.3.1//EN
TZID:Europe/Helsinki
X-WR-TIMEZONE:Europe/Helsinki
BEGIN:VEVENT
UID:436@inflames.utu.fi
DTSTART;TZID=Europe/Helsinki:20250904T110000
DTEND;TZID=Europe/Helsinki:20250904T120000
DTSTAMP:20250829T124843Z
URL:https://inflames.utu.fi/events/inflames-guest-seminar-by-professor-elt
 zschig-holger-my-journey-as-a-physician-scientist/
SUMMARY:InFLAMES Guest Seminar by Professor Eltzschig Holger: My Journey as
  a Physician-Scientist
DESCRIPTION:When: September 4\, 2025 at 11:00–12:00\nWhere: Säätiö lec
 ture hall\, Medisiina D\nSpeaker: Professor Holger Eltzschig\, McGovern Me
 dical School\nTitle: My Journey as a Physician-Scientist\nHost: Senior Res
 earch Fellow Gennadi Egutkin\n\nAfter the seminar there will be an early-c
 areer scientist lunch event where Doctoral Researchers\, Postdocs\, and ot
 her interested persons are invited to join Professor Holger for lunch and 
 free discussion. InFLAMES will cover the cost. There is limited seating\, 
 so registration is required. Register for the lunch here: https://link.web
 ropol.com/s/lunch-eltzschig.\n\nAbout Professor Holger:\n\nProfessor Eltzs
 chig is a physician-scientist trained in anesthesiology\, cardiac anesthes
 ia\, and critical care medicine whose research is focused on hypoxia-induc
 ible transcription factors (HIFs) during perioperative organ injury. Studi
 es from his laboratory revealed that HIFs are stabilized during acute inju
 ry of the lungs\, kidney\, intestine\, or heart. Translational studies dem
 onstrate that these pathways can be targeted for disease treatment.\n\nHis
  focus is on defining therapeutic strategies to dampen harmful inflammatio
 n using pharmacologic HIF activators\, direct targets of HIFs\, or HIF-reg
 ulated microRNAs. The findings of their translational research have been t
 aken into randomized clinical trials to define therapeutic interventions f
 or preventing or treating organ injury in surgical patients or during crit
 ical illness (e.g. W81XWH2110032\; PI: Eltzschig).\n\nHe has extensive exp
 erience as a scientific mentor\, having mentored over 90 researchers and f
 aculty members of different career levels\, including students\, postdocto
 ral researchers and clinical fellows.
ATTACH;FMTTYPE=image/jpeg:https://inflames.utu.fi/wp-content/uploads/Holge
 r.jpg
CATEGORIES:Events in English,Tapahtumat
LOCATION:Säätiö lecture hall\, Medisiina D\, Kiinamyllynkatu 10\, Turku\
 , Finland
X-APPLE-STRUCTURED-LOCATION;VALUE=URI;X-ADDRESS=Kiinamyllynkatu 10\, Turku\
 , Finland;X-APPLE-RADIUS=100;X-TITLE=Säätiö lecture hall\, Medisiina D:
 geo:0,0
END:VEVENT
BEGIN:VTIMEZONE
TZID:Europe/Helsinki
X-LIC-LOCATION:Europe/Helsinki
BEGIN:DAYLIGHT
DTSTART:20250330T040000
TZOFFSETFROM:+0200
TZOFFSETTO:+0300
TZNAME:EEST
END:DAYLIGHT
END:VTIMEZONE
END:VCALENDAR