BEGIN:VCALENDAR
VERSION:2.0
PRODID:-//wp-events-plugin.com//7.2.3.1//EN
TZID:Europe/Helsinki
X-WR-TIMEZONE:Europe/Helsinki
BEGIN:VEVENT
UID:355@inflames.utu.fi
DTSTART;TZID=Europe/Helsinki:20240814T140000
DTEND;TZID=Europe/Helsinki:20240814T150000
DTSTAMP:20240809T121614Z
URL:https://inflames.utu.fi/events/inflames-guest-seminar-associate-profes
 sor-simon-glerup-aarhus-university/
SUMMARY:InFLAMES Guest Seminar: Associate Professor Simon Glerup\, Aarhus U
 niversity
DESCRIPTION:Welcome to the InFLAMES Guest Seminar by Associate Professor Si
 mon Glerup\, Aarhus University\, Denmark next Wednesday\, August 14\, in M
 edisiina D lecture hall Lauren 1. The topic and title of the seminar is 
 “Building biotechs in academia”. The host is InFLAMES PI and Professor
  Olli Pentikäinen from the University of Turku Institute of Biomedicine. 
 Coffee\, tea and pulla is served before the seminar.\n\nAbout Simon Glerup
 :\n\nSimon Glerup is Associate Professor at Aarhus University\, serial bio
 tech entrepreneur and executive\, dedicated to transforming excellent scie
 nce to transformative treatments for the benefit of patients. Simon is exp
 erienced in building teams and building companies. His academic research g
 roup studies cellular mechanisms of protein sorting and degradation in the
  context of health and disease. Their scientific findings have formed the 
 basis of several patent applications\, collaborations with industry\, and 
 three spin-outs raising more than 150 million EUR in investments from top 
 tier venture capital firms to date. He is also a member of the Novo Nordis
 k Foundation Innovation Committee\, supporting early-stage innovative life
  science in the Nordic countries.\n\n&nbsp\;
ATTACH;FMTTYPE=image/jpeg:https://inflames.utu.fi/wp-content/uploads/Simon
 _Glerup.webp
CATEGORIES:Events in English,Tapahtumat
END:VEVENT
BEGIN:VTIMEZONE
TZID:Europe/Helsinki
X-LIC-LOCATION:Europe/Helsinki
BEGIN:DAYLIGHT
DTSTART:20240331T040000
TZOFFSETFROM:+0200
TZOFFSETTO:+0300
TZNAME:EEST
END:DAYLIGHT
END:VTIMEZONE
END:VCALENDAR