BEGIN:VCALENDAR
VERSION:2.0
PRODID:-//wp-events-plugin.com//7.2.3.1//EN
TZID:Europe/Helsinki
X-WR-TIMEZONE:Europe/Helsinki
BEGIN:VEVENT
UID:181@inflames.utu.fi
DTSTART;TZID=Europe/Helsinki:20220920T120000
DTEND;TZID=Europe/Helsinki:20220920T130000
DTSTAMP:20230120T083320Z
URL:https://inflames.utu.fi/events/inflames-guest-lecture-professor-camill
 e-locht/
SUMMARY:InFLAMES Guest Seminar: Professor Camille Locht
DESCRIPTION:20.9. at 12-13\n\nSäätiö-sali
ATTACH;FMTTYPE=image/jpeg:https://inflames.utu.fi/wp-content/uploads/2022/
 09/Camille-Locht-e1436782665150.jpg
END:VEVENT
BEGIN:VTIMEZONE
TZID:Europe/Helsinki
X-LIC-LOCATION:Europe/Helsinki
BEGIN:DAYLIGHT
DTSTART:20220327T040000
TZOFFSETFROM:+0200
TZOFFSETTO:+0300
TZNAME:EEST
END:DAYLIGHT
END:VTIMEZONE
END:VCALENDAR