BEGIN:VCALENDAR
VERSION:2.0
PRODID:-//wp-events-plugin.com//7.2.3.1//EN
TZID:Europe/Helsinki
X-WR-TIMEZONE:Europe/Helsinki
BEGIN:VEVENT
UID:179@inflames.utu.fi
DTSTART;TZID=Europe/Helsinki:20220912T150000
DTEND;TZID=Europe/Helsinki:20220912T163000
DTSTAMP:20230120T083320Z
URL:https://inflames.utu.fi/events/inflames-flagship-seminar/
SUMMARY:InFLAMES Flagship Seminar: September
DESCRIPTION:Welcome to the InFLAMES Flagship seminar on September 12th at 3
 pm! Please note that this time the seminar is held strictly on-site in Arj
 e Scheinin auditorium\, Dentalia. There’s coffee/tea and baked goods ser
 ved for the participants. See you there!\n\n \n\nProgramme:\n\n15.00 Brie
 f update on topical issues\nSirpa Jalkanen\n\n\n15.05 Introduction to PI's
  Research\nAssociate Professor Alexander Mildner\, InFLAMES Flagship\n\n15
 :35 Introduction to PI's Research: Macrophage targeted immunotherapy\nProf
 essor Maija Hollmén\, MediCity\n\n\n15:50 Introduction to PI's Research\n
 Professor Ville Peltola\, Faculty of Medicine\n\n&nbsp\;\n\n&nbsp\;\n\n \
 n\n&nbsp\;\n\n&nbsp\;\n\n&nbsp\;\n\n&nbsp\;\n\n&nbsp\;\n\n&nbsp\;
ATTACH;FMTTYPE=image/jpeg:https://inflames.utu.fi/wp-content/uploads/2022/
 07/blog_icon_InFLAMES_2.jpg
END:VEVENT
BEGIN:VTIMEZONE
TZID:Europe/Helsinki
X-LIC-LOCATION:Europe/Helsinki
BEGIN:DAYLIGHT
DTSTART:20220327T040000
TZOFFSETFROM:+0200
TZOFFSETTO:+0300
TZNAME:EEST
END:DAYLIGHT
END:VTIMEZONE
END:VCALENDAR