BEGIN:VCALENDAR
VERSION:2.0
PRODID:-//wp-events-plugin.com//7.2.3.1//EN
TZID:Europe/Helsinki
X-WR-TIMEZONE:Europe/Helsinki
BEGIN:VEVENT
UID:393@inflames.utu.fi
DTSTART;TZID=Europe/Helsinki:20250129T150000
DTEND;TZID=Europe/Helsinki:20250129T160000
DTSTAMP:20250127T083338Z
URL:https://inflames.utu.fi/events/inflames-flagship-seminar-teijo-pelline
 n-fimm-university-of-helsinki/
SUMMARY:InFLAMES Flagship Seminar: Teijo Pellinen\, FIMM\, University of He
 lsinki
DESCRIPTION:Welcome to the first InFLAMES Flagship seminar of 2025!\n\nWhen
 : Wednesday 29.1.2025 at 15-16\nWhere: Säätiö lecture hall\, Medisiina 
 D\n\nProgramme\nHost: InFLAMES Clinical Researcher Kalle Mattila\n\nBrief 
 updates on InFLAMES Topical Issues\nInFLAMES Administrative Director Juhan
 i Knuuti\n\nThe impact of tumor microenvironment on prognosis in localized
  kidney cancer\nSenior Scientist  Teijo Pellinen\nInstitute for Molecular
  Medicine Finland FIMM\, University of Helsinki\n\nTeijo Pellinen\, PhD\,
   is a senior scientist and a team leader of the Molecular Spatial Pathol
 ogy. He has worked in the Kallioniemi group since 2011. Pellinen employs m
 ulticolour imaging and machine intelligence for studying cancer tissue. He
  uses pioneering technology to recognize ‘fingerprints’ of various typ
 es of cancer to predict the course of the disease – and to develop more 
 accurate treatments.\n\nCoffee\, tea and something sweet will be served on
 -site from 14:40 onwards (first come\, first served).
ATTACH;FMTTYPE=image/jpeg:https://inflames.utu.fi/wp-content/uploads/Thumb
 nail-TeijoPellinenlSeminar.png
CATEGORIES:Events in English,Tapahtumat
LOCATION:Medisiina D\, Kiinamyllynkatu 10\, Turku\, Finland
X-APPLE-STRUCTURED-LOCATION;VALUE=URI;X-ADDRESS=Kiinamyllynkatu 10\, Turku\
 , Finland;X-APPLE-RADIUS=100;X-TITLE=Medisiina D:geo:0,0
END:VEVENT
BEGIN:VTIMEZONE
TZID:Europe/Helsinki
X-LIC-LOCATION:Europe/Helsinki
BEGIN:STANDARD
DTSTART:20241027T030000
TZOFFSETFROM:+0300
TZOFFSETTO:+0200
TZNAME:EET
END:STANDARD
END:VTIMEZONE
END:VCALENDAR