BEGIN:VCALENDAR
VERSION:2.0
PRODID:-//wp-events-plugin.com//7.2.3.1//EN
TZID:Europe/Helsinki
X-WR-TIMEZONE:Europe/Helsinki
BEGIN:VEVENT
UID:370@inflames.utu.fi
DTSTART;TZID=Europe/Helsinki:20240925T150000
DTEND;TZID=Europe/Helsinki:20240925T160000
DTSTAMP:20240924T123256Z
URL:https://inflames.utu.fi/events/inflames-flagship-seminar-latest-in-the
 -ms-research-from-the-ectrims-2024-conference/
SUMMARY:InFLAMES Flagship Seminar: The latest in the MS research from the E
 CTRIMS 2024 conference
DESCRIPTION:InFLAMES Flagship Seminar: The latest in the MS research from t
 he ECTRIMS 2024 conference\nWhen: 25 September 2024\, 15:00 – 16:00\nWhe
 re: Medisiina D Lauren 1\n\nProgramme:\n\nSenior Research Fellow\, Consult
 ant Neurologist Jussi Lehto\, PhD: Welcome and introduction\n\nInFLAMES Do
 ctoral Researcher Marjo Nylund\, MSc: Whole brain versus white matter micr
 oglial activation in multiple sclerosis progression\n\nDoctoral Researcher
  Olli Rajalehto\, BM:  TSPO-PET-measurable microglial activity remains un
 altered in cladribine-treated RRMS patients\n\nImmuDocs Doctoral Researche
 r Venla Ahola\, MSc: Plasma CHI3L1 associates with brain volume loss and m
 icroglial activation in multiple sclerosis
ATTACH;FMTTYPE=image/jpeg:https://inflames.utu.fi/wp-content/uploads/2022/
 07/blog_icon_InFLAMES_2.jpg
CATEGORIES:Events in English,Tapahtumat
END:VEVENT
BEGIN:VTIMEZONE
TZID:Europe/Helsinki
X-LIC-LOCATION:Europe/Helsinki
BEGIN:DAYLIGHT
DTSTART:20240331T040000
TZOFFSETFROM:+0200
TZOFFSETTO:+0300
TZNAME:EEST
END:DAYLIGHT
END:VTIMEZONE
END:VCALENDAR