BEGIN:VCALENDAR
VERSION:2.0
PRODID:-//wp-events-plugin.com//7.2.3.1//EN
TZID:Europe/Helsinki
X-WR-TIMEZONE:Europe/Helsinki
BEGIN:VEVENT
UID:396@inflames.utu.fi
DTSTART;TZID=Europe/Helsinki:20250416T150000
DTEND;TZID=Europe/Helsinki:20250416T160000
DTSTAMP:20250407T075144Z
URL:https://inflames.utu.fi/events/inflames-flagship-seminar-8/
SUMMARY:InFLAMES Flagship Seminar: Professor Antti Saraste
DESCRIPTION:Welcome to the InFLAMES Flagship seminar!\n\nWhen: Wednesday 16
 .4.2025 at 15-16\nWhere: Lauren 2\, Mediciina D\nSpeaker: Professor\, Inte
 rnal Medicine MD Antti Saraste\nTitle: Imaging of inflammation in cardiac 
 diseases\n\nCoffee\, tea and pulla will be served on-site (first come\, fi
 rst served).
ATTACH;FMTTYPE=image/jpeg:https://inflames.utu.fi/wp-content/uploads/Saras
 te.jpg
CATEGORIES:Events in English,Tapahtumat
END:VEVENT
BEGIN:VTIMEZONE
TZID:Europe/Helsinki
X-LIC-LOCATION:Europe/Helsinki
BEGIN:DAYLIGHT
DTSTART:20250330T040000
TZOFFSETFROM:+0200
TZOFFSETTO:+0300
TZNAME:EEST
END:DAYLIGHT
END:VTIMEZONE
END:VCALENDAR