BEGIN:VCALENDAR
VERSION:2.0
PRODID:-//wp-events-plugin.com//7.2.3.1//EN
TZID:Europe/Helsinki
X-WR-TIMEZONE:Europe/Helsinki
BEGIN:VEVENT
UID:395@inflames.utu.fi
DTSTART;TZID=Europe/Helsinki:20250212T150000
DTEND;TZID=Europe/Helsinki:20250212T160000
DTSTAMP:20250205T140525Z
URL:https://inflames.utu.fi/events/inflames-flagship-seminar-7/
SUMMARY:InFLAMES Flagship Seminar: Associate Professor Pekka Ruusuvuori
DESCRIPTION:Welcome to the InFLAMES Flagship seminar! New InFLAMES PI\, Ass
 ociate Professor Pekka Ruusuvuori\, will be introducing himself and his re
 search. Everybody welcome!\n\nWhen: Wednesday 12.2.2025 at 15-16\nWhere: O
 smo Järvi\, Medisiina C\n\nCoffee\, tea and something sweet will be serve
 d on-site (first come\, first served).
ATTACH;FMTTYPE=image/jpeg:https://inflames.utu.fi/wp-content/uploads/trans
 parent_bg_icon_InFLAMES-1.png
CATEGORIES:Events in English,Tapahtumat
END:VEVENT
BEGIN:VTIMEZONE
TZID:Europe/Helsinki
X-LIC-LOCATION:Europe/Helsinki
BEGIN:STANDARD
DTSTART:20241027T030000
TZOFFSETFROM:+0300
TZOFFSETTO:+0200
TZNAME:EET
END:STANDARD
END:VTIMEZONE
END:VCALENDAR