BEGIN:VCALENDAR
VERSION:2.0
PRODID:-//wp-events-plugin.com//7.2.3.1//EN
TZID:Europe/Helsinki
X-WR-TIMEZONE:Europe/Helsinki
BEGIN:VEVENT
UID:301@inflames.utu.fi
DTSTART;TZID=Europe/Helsinki:20240131T160000
DTEND;TZID=Europe/Helsinki:20240131T170000
DTSTAMP:20240124T152710Z
URL:https://inflames.utu.fi/events/inflames-flagship-online-seminar-visiti
 ng-professor-lawrence-steinman-2/
SUMMARY:InFLAMES Flagship Online Seminar: Visiting Professor Lawrence Stein
 man
DESCRIPTION:Welcome to the InFLAMES Flagship online seminar on January 31st
 \, 2024 at 4-5pm (Finnish time)!\n\nZoom link: https://utu.zoom.us/j/61922
 947073\n\n\n\nProf. Lawrence Steinman\, Zimmermann Professor of Neurology 
 &amp\; Neurological Sciences\, and Pediatrics\, Beckman Center for Molecul
 ar Medicine Stanford University:\n\nCurious Coincidence of Multiple Molecu
 lar Mimics in a Short Stretch of EBNA-1\, and Their Relevance to MS and to
  SLE\n\nHost: Riitta Lahesmaa\n\nAbout Professor Steinman:\n\nDr. Steinman
  is Professor of Neurology\, Neurological Sciences\, Pediatrics and Geneti
 cs at Stanford University. He was Chair of the Stanford Program in Immunol
 ogy from 2001 to 2011. His research focuses on what provokes relapses and 
 remissions in multiple sclerosis (MS)\, and on the quest for antigen speci
 fic therapy in autoimmune disease.\n\nDr. Steinman graduated from Dartmout
 h College\, Magna Cum Laude in Physics. His MD is from Harvard Medical Sch
 ool. He has received numerous honors\, including the John M. Dystel Prize 
 in 2004\, the Javits Neuroscience Investigator Award from the NINDS twice\
 , the Charcot Prize in MS research\, and the Cerami Prize in Translational
  Medicine.\n\nHe has cofounded several biotech companies\, including Neuro
 crine\, Atreca\, 180 Life Sciences\, Alpha-5 Integrin LLC\, and Pasithea. 
 He was a Director of Centocor from 1988 until its sale to Johnson and John
 son.  He is a Director of BioAtla\, an immune-oncology company\, Co-Execu
 tive Chair of 180 Life Sciences\, and Executive Chair of Pasithea.\n\n&nbs
 p\;\n\nJoin Zoom Meeting\n\nhttps://utu.zoom.us/j/61922947073\n\nMeeting I
 D: 619 2294 7073\n\n---\n\nJoin by SIP\n\n61922947073@109.105.112.236\n\n 
 	61922947073@109.105.112.235\n\n---\n\nJoin by H.323\n\n 	109.105.112.236\
 n 	109.105.112.235\n\nMeeting ID: 619 2294 7073
ATTACH;FMTTYPE=image/jpeg:https://inflames.utu.fi/wp-content/uploads/Stein
 man.png
CATEGORIES:Events in English,Tapahtumat
END:VEVENT
BEGIN:VTIMEZONE
TZID:Europe/Helsinki
X-LIC-LOCATION:Europe/Helsinki
BEGIN:STANDARD
DTSTART:20231029T030000
TZOFFSETFROM:+0300
TZOFFSETTO:+0200
TZNAME:EET
END:STANDARD
END:VTIMEZONE
END:VCALENDAR