BEGIN:VCALENDAR
VERSION:2.0
PRODID:-//wp-events-plugin.com//7.2.3.1//EN
TZID:Europe/Helsinki
X-WR-TIMEZONE:Europe/Helsinki
BEGIN:VEVENT
UID:136@inflames.utu.fi
DTSTART;TZID=Europe/Helsinki:20211216T140000
DTEND;TZID=Europe/Helsinki:20211216T170000
DTSTAMP:20240416T113653Z
URL:https://inflames.utu.fi/events/inflames-flagship-corporate-corner/
SUMMARY:InFLAMES Flagship Corporate Corner
DESCRIPTION:InFLAMES Flagship welcomes our existing and new collaborative p
 artners to our first Corporate Corner. The event will be the first of the 
 upcoming Corporate Corner series\, which continues next year in March 2022
 .  You are welcome to send us suggestions on the content of future events
 .\n\nThe event will be held on the 16th of December\, 2021 at 2:00-5.00 pm
  in the President Auditorium of the Conference Center Mauno in BioCity\, T
 urku. Due to the COVID-19 situation in Finland\, participation is also po
 ssible online.\n\nIn accordance with the instructions of the Occupational 
 Safety and Health Administration in Finland\, the COVID-19 passport is re
 quired from participants attending the event on site.\n\n&nbsp\;\n\nYou ar
 e also welcome to join us online and participate in the discussion!\n\nZoo
 m-link: https://us02web.zoom.us/j/85377051465?pwd=WW9pSVptUHFlUVowRkk3MW9w
 SDJsZz09\n\n&nbsp\;\n\nPROGRAMME\n\n\n\n\n13:45-14:00\nCoffee and tea\n\n\
 n14:00-14:30\n\n&nbsp\;\n\n&nbsp\;\nInFLAMES Research Flagship\nWho are we
 ? What can we offer to industrial partners?\nCome and learn with us!\nInFL
 AMES Director Sirpa Jalkanen\n\n\n\n14:30-16:00\n\n&nbsp\;\n\n&nbsp\;\n\n&
 nbsp\;\n\n&nbsp\;\n\n&nbsp\;\n\n&nbsp\;\n\n&nbsp\;\n\n&nbsp\;\n\n&nbsp\;\n
 \n&nbsp\;\n\n&nbsp\;\n\n&nbsp\;\nHighlights of Our Research\n\nRegulation 
 of human immune response\nProfessor Riitta Lahesmaa\, Turku Bioscience Cen
 tre\n\nLeukocyte trafficking in inflammation: crossing borders\nProfessor 
 Marko Salmi\, Institute of Biomedicine\n\nNext generation immunotherapies 
 -Making cancer weapons out of macrophages\nAcademy Research Fellow Maija H
 ollmen\, Institute of Biomedicine\n\nTurning hot microglia cold to stop ne
 urodegeneration\nProfessor Laura Airas\, Turku PET Centre\n\nClosing words
 \nProfessor of Practice Timo Veromaa\, InFLAMES Flagship\n\n&nbsp\;\n\n\n1
 6:00-17:00\nNetworking\nNetworking session with good wine and food.\n\n\n\
 n\nKaisa Hakkila\n\nProject Manager\n\nInFLAMES Research Flagship\n\nkaisa
 .hakkila@utu.fi | +358 50 526 7057
CATEGORIES:Corporate Corner
END:VEVENT
BEGIN:VTIMEZONE
TZID:Europe/Helsinki
X-LIC-LOCATION:Europe/Helsinki
BEGIN:STANDARD
DTSTART:20211031T030000
TZOFFSETFROM:+0300
TZOFFSETTO:+0200
TZNAME:EET
END:STANDARD
END:VTIMEZONE
END:VCALENDAR