BEGIN:VCALENDAR
VERSION:2.0
PRODID:-//wp-events-plugin.com//7.2.3.1//EN
TZID:Europe/Helsinki
X-WR-TIMEZONE:Europe/Helsinki
BEGIN:VEVENT
UID:382@inflames.utu.fi
DTSTART;TZID=Europe/Helsinki:20241204T140000
DTEND;TZID=Europe/Helsinki:20241204T160000
DTSTAMP:20241204T081448Z
URL:https://inflames.utu.fi/events/inflames-flagship-and-fican-west-semina
 r-recent-advancements-in-the-early-detection-of-ovarian-cancer/
SUMMARY:InFLAMES Flagship Seminar: Recent advancements in the early detecti
 on of ovarian cancer
DESCRIPTION:Welcome to a research seminar hosted by InFLAMES Flagship\, fea
 turing two presentations on recent advancements in the early detection of 
 ovarian cancer. Everybody welcome!\n\nTime: Wednesday\, December 4\, 2024\
 , 14:00-16:00\nLocation: Medisiina D\, Lauren 1 Lecture Hall\nHost: Janne 
 Leivo\, InFLAMES &amp\; FICAN West\n\nPresenters:\n\nDr. Steven Skates\, A
 ssociate Professor\, Massachusetts General Hospital and Harvard Medical Sc
 hool\n"Precision Early Detection of Ovarian Cancer - Leveraging the Power 
 of Each Woman Serving as Her Own Control"\n\nDoctoral Researcher Shruti Ja
 in\, Department of Life Technologies\, University of Turku\n"Novel Circula
 tory Biomarkers for Ovarian Cancer Diagnosis – Nanoparticle based glycov
 ariant assays”\n\nShort biography of Dr. Skates:\n\nDr. Steven Skates is
  an Associate Professor of Medicine at Massachusetts General Hospital and 
 Harvard Medical School. He completed his undergraduate studies at the Univ
 ersity of Western Australia and earned his graduate degree in Statistics f
 rom the University of Chicago. Dr. Skates is an expert in developing stati
 stical models for early cancer detection\, with a focus on ovarian cancer.
  His work encompasses the discovery of blood biomarkers\, the creation of 
 longitudinal algorithms for biomarker-based detection\, and the design and
  execution of screening trials to improve early detection and patient outc
 omes in ovarian cancer.
ATTACH;FMTTYPE=image/jpeg:https://inflames.utu.fi/wp-content/uploads/trans
 parent_bg_icon_InFLAMES.png
CATEGORIES:Events in English,Tapahtumat
END:VEVENT
BEGIN:VTIMEZONE
TZID:Europe/Helsinki
X-LIC-LOCATION:Europe/Helsinki
BEGIN:STANDARD
DTSTART:20241027T030000
TZOFFSETFROM:+0300
TZOFFSETTO:+0200
TZNAME:EET
END:STANDARD
END:VTIMEZONE
END:VCALENDAR