BEGIN:VCALENDAR
VERSION:2.0
PRODID:-//wp-events-plugin.com//7.2.3.1//EN
TZID:Europe/Helsinki
X-WR-TIMEZONE:Europe/Helsinki
BEGIN:VEVENT
UID:453@inflames.utu.fi
DTSTART;TZID=Europe/Helsinki:20260122T113000
DTEND;TZID=Europe/Helsinki:20260122T180000
DTSTAMP:20260120T122239Z
URL:https://inflames.utu.fi/events/inflames-corporate-corner-sex-and-immun
 ity/
SUMMARY:InFLAMES Corporate Corner - Sex and Immunity
DESCRIPTION:\nWelcome to the InFLAMES Corporate Corner – Sex and Immunity
 !\nThe InFLAMES Corporate Corner – Sex and Immunity will be held on 22 J
 anuary 2026. The event will take place in the Cave Theater of the Visitor 
 and Innovation Centre Joki\, Lemminkäisenkatu 12 B\, Turku. The event wil
 l start with lunch at 11:30\, followed by the seminar program until 16:00 
 and culminating in a networking after-party until 18:00.\n\nAt the upcomin
 g InFLAMES Corporate Corner\, we will provide an overview of how biologica
 l sex substantially influences the immune system and immune-related diseas
 es.\n\nThere is a persistent male bias in medical research. In the past\, 
 early clinical trials frequently excluded female participants\, with initi
 al 'first-in-man' studies relying exclusively on male data and inappropria
 tely generalising the results to women. This sex-based disparity in medica
 l research leads to real-world disadvantages for female patients.\n\nOur C
 orporate Corner – Sex and Immunity event in January will highlight this 
 perspective through research and the study of various diseases. We are als
 o pleased to introduce the Women’s Health Hub Finland. This initiative h
 ighlights the importance of women’s health by promoting research and adv
 ancing care from prevention and diagnosis to effective treatment. Finland 
 is home to numerous innovative companies in this field\, and you will hear
  from companies such as Bayer\, Uniogen\, and Abomics.\n\nJoin us to learn
  more!\n\nRegister by January 15th at the latest!\nRegistration link: http
 s://eve.utu.fi/e/CC2026 --&gt\; REGISTRATION IS CLOSED! THE EVENT IS FULLY
  BOOKED!\n\n\nConfirmed speakers\n\nCEO Minna Arve\, Business Turku\nHead 
 Device Processes for Medical Device and Combination Products Manja Ahola\,
  Bayer\nCMO Jari Forsström\, Abomics\nDirector - Ongolocy Leena Kokko\, U
 niogen\nVice Rector Maija Peltola\, University of Turku\nProfessor Antti S
 araste\, University of Turku\nSpecialist Consultant in Anaesthesiology and
  Intensive Care\, Medical History Teacher Ulla Ahlmén-Laiho\, Tyks and Un
 iversity of Turku\nSenior Research Fellow Pia Rantakari\, University of Tu
 rku\nProfessor Laura Airas\, University of Turku and Tyks\nSenior Research
  Fellow\, Chief Physician Pauliina Hartiala\, University of Turku and Tyks
 \nAssociate Professor Suvi Rovio\, University of Turku\n\n\n\nProgramme (c
 hanges possible):\n11:30-12:15   Lunch (can also be enjoyed during prese
 ntations)\n\n12:15–13:25\nChair: Senior Research Fellow\, Chief physicia
 n Pauliina Hartiala\, University of Turku and Turku University Hospital (T
 yks)\n\nOpening words\nVice Rector Maija Peltola\, University of Turku\n\n
 Women and medical science — 4000 years of trouble and triumph\nSpecialis
 t Consultant in Anaesthesiology and Intensive Care\, Medical history teach
 er Ulla Ahlmén-Laiho\, Tyks and University of Turku\n\nWomen's Health Hub
  Finland\nCEO Minna Arve\, Business Turku\n\nShaping health for women – 
 Case Bayer\nHead Device Processes for Medical Device and Combination Produ
 cts Manja Ahola\, Bayer\n\n13:25–13:55  Coffee Break\n\n13:55–16:00\n
 Chair: Research Manager Jarkko Koivunen\, University of Turku\n\nUnderstan
 ding sex-specific mechanisms of cardiovascular diseases\nProfessor Antti S
 araste\, University of Turku\n\nSex Differences in Immune Function: Hormon
 al Influences Across the Human Lifespan\nSenior Research Fellow Pia Rantak
 ari\, University of Turku\n\nBeyond CA-125: Biomarker-driven early detecti
 on of ovarian cancer\nDirector - Ongolocy\, Leena Kokko\, Uniogen\n\nWhy a
 re women at greater risk for autoimmune disease?\nProfessor Laura Airas\, 
 University of Turku and Tyks\n\nPharmacogenomics for women’s health\nCMO
  Jari Forsström\, Abomics\n\nBreast cancer–related lymphedema research:
  how we turn waste into wisdom\nSenior Research Fellow\, Chief physician P
 auliina Hartiala\, University of Turku and Tyks\n\nPopulation-based eviden
 ce on sex-specific patterns of cognitive function and neurodegeneration\nA
 ssociate Professor Suvi Rovio\, University of Turku\n\nConclusion and fina
 l remarks\nChairs of the event Pauliina and Jarkko\n\n16:00–18:00  Netw
 orking over drinks and food (Cave lobby area)\n\n\n\n&nbsp\;\n\nOrganising
  Committee\nSenior Research Fellow and InFLAMES Group Leader\, Chief physi
 cian Pauliina Hartiala\, University of Turku and Tyks\nInFLAMES Group Lead
 er Tapio Lönnberg\, University of Turku\nProfessor of Practice Timo Verom
 aa\, University of Turku\nInFLAMES Research Manager Jarkko Koivunen\, Univ
 ersity of Turku\nInFLAMES Project Manager Kaisa Hakkila\, University of Tu
 rku\n\nDesign by Henok Karvonen\, University of Turku
ATTACH;FMTTYPE=image/jpeg:https://inflames.utu.fi/wp-content/uploads/Thumb
 nail-CC-SexandImmunity@300x-scaled.png
CATEGORIES:Corporate Corner,Events in English,Tapahtumat
LOCATION:Cave Theatre\, Visitor and Innovation Centre Joki\, Lemminkäisenk
 atu 12 B\, Turku\, Finland
X-APPLE-STRUCTURED-LOCATION;VALUE=URI;X-ADDRESS=Lemminkäisenkatu 12 B\, Tu
 rku\, Finland;X-APPLE-RADIUS=100;X-TITLE=Cave Theatre\, Visitor and Innova
 tion Centre Joki:geo:0,0
END:VEVENT
BEGIN:VTIMEZONE
TZID:Europe/Helsinki
X-LIC-LOCATION:Europe/Helsinki
BEGIN:STANDARD
DTSTART:20251026T030000
TZOFFSETFROM:+0300
TZOFFSETTO:+0200
TZNAME:EET
END:STANDARD
END:VTIMEZONE
END:VCALENDAR