BEGIN:VCALENDAR
VERSION:2.0
PRODID:-//wp-events-plugin.com//7.2.3.1//EN
TZID:Europe/Helsinki
X-WR-TIMEZONE:Europe/Helsinki
BEGIN:VEVENT
UID:154@inflames.utu.fi
DTSTART;TZID=Europe/Helsinki:20220617T120000
DTEND;TZID=Europe/Helsinki:20220617T150000
DTSTAMP:20240416T113747Z
URL:https://inflames.utu.fi/events/inflames-corporate-corner-diagnostic-te
 chnologies-and-applications-in-immunology/
SUMMARY:InFLAMES Corporate Corner – Diagnostic technologies and applicati
 ons in immunology
DESCRIPTION:\n\nWelcome to the InFLAMES Research Flagship's Corporate Corne
 r titled Diagnostic technologies and applications in immunology.\n\n&nbsp\
 ;\n\nThe event will be held on 17th of June\, 2022 at 12.00-3.00pm in Cave
  theatre\, Visitor and Innovation Centre Joki\, Lemminkäisenkatu 12B\, Tu
 rku. Lunch is served at 11:45 and there is time for networking after the p
 resentations.\n\n&nbsp\;\n\nIn the event you will hear the latest diagnost
 ics technologies in immunology as well as various insights on how to promo
 te industry-academy collaboration. We have a great list of speakers from t
 he following: InFLAMES\, PerkinElmer\, Inc.\, Kaivogen Oy - part of Unioge
 n and ArcDia International.\n\n&nbsp\;\n\nPlease sign up HERE by June 13th
 \, 2022. (Registaration for the on-site event in Cave theatre is closed. 
  If you are still interested in participating on site please email kaisa.h
 akkila@utu.fi.)\n\n\nYou may also participate online. Link will be sent to
  registered participants one day before the event.\n\nLink to join an onli
 ne event: https://utu.zoom.us/j/68197975999 \n\n&nbsp\;\n\nHosts:\nProfess
 or Urpo Lamminmäki\, Department of Life Technologies\, Univerisity of Tur
 ku\nInFLAMES Group Leader Janne Leivo\, Department of Life Technologies\, 
 Univerisity of Turku\nProgramme\nCave theatre\, Visitor and Innovation Cen
 tre Joki\, Lemminkäisenkatu 12b\, Turku / Online\n11:45-\nLunch which can
  be enjoyed during presentations\n12:10-12:15\nOpening words\nProfessor of
  Practice Timo Veromaa\, University of Turku\n12:15-12:30\nEnabling techno
 logies for in vitro diagnostics\nProfessor Urpo Lamminmäki\, Department o
 f Life Technologies\, University of Turku\n12:30- 12:45\nScaling Strategic
  Focus Areas\nScientific Leader Mikko Sairanen\, PhD\nPerkinElmer Global R
 &amp\;D\n12:45-13:00\nNovel biomarkers and assay concepts for early diseas
 e diagnostics\nInFLAMES Group Leader Janne Leivo\, Department of Life Tech
 nologies\, University of Turku\n13:00-13:15\nExpanding business with acade
 mic collaboration\nBusiness Development Manager Jarkko Karvinen\, PhD\nUni
 ogen Ltd\n13:15-13:30\nTurku PET Centre – Radiopharmaceuticals for PET i
 maging disease and mechanisms\nAssistant Professor Xiang-Guo Li\, Turku PE
 T Centre\, University of Turku\n13:30-13.45\nTyks Laboratories - Customize
 d diagnostics on the required scale\nChief Physician\, Director Antti Haka
 nen\, TYKS Laboratories\n13:45-14:00\nExperiences and views on industry-ac
 ademy collaborations related to infection diagnostics\nR&amp\;D and Market
 ing Director Janne Koskinen\, PhD\nArcDia International Oy Ltdn\n14:00-14:
 35\nPanel Discussion\nHow to improve industry-academy collaboration\nModer
 ator: Janne Leivo\, University of Turku\n\nPanelists:\nChief Physician\, D
 irector Antti Hakanen\, Tyks Laboratories\nBusiness Development Manager Ja
 rkko Karvinen\, Uniogen Ltd\nScientific Leader Mikko Sairanen\, PerkinElme
 r Global R&amp\;D\nProfessor of Practice Timo Veromaa\, University of Turk
 u\n14:35-15:00\nNetworking –  Drinks
ATTACH;FMTTYPE=image/jpeg:https://inflames.utu.fi/wp-content/uploads/2022/
 04/Artboard-1.png
CATEGORIES:Corporate Corner
END:VEVENT
BEGIN:VTIMEZONE
TZID:Europe/Helsinki
X-LIC-LOCATION:Europe/Helsinki
BEGIN:DAYLIGHT
DTSTART:20220327T040000
TZOFFSETFROM:+0200
TZOFFSETTO:+0300
TZNAME:EEST
END:DAYLIGHT
END:VTIMEZONE
END:VCALENDAR