BEGIN:VCALENDAR
VERSION:2.0
PRODID:-//wp-events-plugin.com//7.2.3.1//EN
TZID:Europe/Helsinki
X-WR-TIMEZONE:Europe/Helsinki
BEGIN:VEVENT
UID:479@inflames.utu.fi
DTSTART;TZID=Europe/Helsinki:20260423T150000
DTEND;TZID=Europe/Helsinki:20260423T160000
DTSTAMP:20260416T093915Z
URL:https://inflames.utu.fi/events/inflames-clinical-researcher-seminar-2/
SUMMARY:InFLAMES clinical researcher seminar
DESCRIPTION:\n\nInFLAMES clinical researcher seminar\nWhen: 23.4.2026 at 15
 :00-16:00\nWhere: Säätiö lecture room\, Medisiina D\nSpeakers: InFLAMES
  clinical researchers\nHost: Academician Sirpa Jalkanen\, Impact Director 
 of InFLAMES Flagship\, University of Turku\n\nWelcome to the InFLAMES clin
 ical researcher seminar! In this two-part seminar series\, six InFLAMES cl
 inical researchers will introduce themselves and their research. The secon
 d seminar in April features Lauri Ivaska\, Jukka Kero\, and Eero Rissanen.
 \n\nCoffee/tea and something savory will be served starting at 14:30.\n\nP
 ertussis vaccination during pregnancy and the development of childhood imm
 unity\nLauri Ivaska\, Clinical Lecturer\, Paediatrics and Adolescent Medic
 ine\, Docent\, Department of Clinical Medicine\, Senior Researcher\, Medi
 City and InFLAMES Flagship\, University of Turku\n\nAutoimmune Pulmonary 
 Alveolar Proteinosis (aPAP): Unraveling pathophysiology to unlock future t
 herapies\nJukka Kero\, Docent\, Pediatric Endocrinologist\, Pediatric Dep
 artment\, TYKS\, Varha and Department of Clinical Medicine\, University of
  Turku\n\nLinking neuroinflammation and glymphatic system through excercis
 e and advanced MR-imaging\nEero Rissanen\, MD\, PhD\, Docent\, Neurology c
 onsultant\; Clinical Neurosciences\, Department of Clinical Medicine\, Uni
 versity of Turku\n\n&nbsp\;
ATTACH;FMTTYPE=image/jpeg:https://inflames.utu.fi/wp-content/uploads/thumb
 nail-ICR2.png
CATEGORIES:Events in English,Tapahtumat
END:VEVENT
BEGIN:VTIMEZONE
TZID:Europe/Helsinki
X-LIC-LOCATION:Europe/Helsinki
BEGIN:DAYLIGHT
DTSTART:20260329T040000
TZOFFSETFROM:+0200
TZOFFSETTO:+0300
TZNAME:EEST
END:DAYLIGHT
END:VTIMEZONE
END:VCALENDAR