BEGIN:VCALENDAR
VERSION:2.0
PRODID:-//wp-events-plugin.com//7.2.3.1//EN
TZID:Europe/Helsinki
X-WR-TIMEZONE:Europe/Helsinki
BEGIN:VEVENT
UID:440@inflames.utu.fi
DTSTART;TZID=Europe/Helsinki:20251104T140000
DTEND;TZID=Europe/Helsinki:20251104T150000
DTSTAMP:20251021T083829Z
URL:https://inflames.utu.fi/events/immunology-seminar/
SUMMARY:Immunology Seminar Series: Jonna Alanko
DESCRIPTION:    
ATTACH;FMTTYPE=image/jpeg:https://inflames.utu.fi/wp-content/uploads/Jonna
 .jpg
CATEGORIES:Events in English,Tapahtumat
END:VEVENT
BEGIN:VTIMEZONE
TZID:Europe/Helsinki
X-LIC-LOCATION:Europe/Helsinki
BEGIN:STANDARD
DTSTART:20251026T030000
TZOFFSETFROM:+0300
TZOFFSETTO:+0200
TZNAME:EET
END:STANDARD
END:VTIMEZONE
END:VCALENDAR