BEGIN:VCALENDAR
VERSION:2.0
PRODID:-//wp-events-plugin.com//7.2.3.1//EN
TZID:Europe/Helsinki
X-WR-TIMEZONE:Europe/Helsinki
BEGIN:VEVENT
UID:78@inflames.utu.fi
DTSTART;TZID=Europe/Helsinki:20210420T140000
DTEND;TZID=Europe/Helsinki:20210420T160000
DTSTAMP:20230120T083147Z
URL:https://inflames.utu.fi/events/immunology-seminar-series/
SUMMARY:Immunology Seminar Series | COVID-19 vaccination update and Tampere
  Vaccination Centre | InFLAMES flagship
DESCRIPTION:Immunology seminar series is jointly organised by the Finnish S
 ociety for Immunology\, InFLAMES Flagship and Turku Bioscience\n\n 	Profes
 sor Mika Rämet: University of Tampere\n\nCOVID-19 vaccination update and 
 Tampere Vaccination Centre\n\n 	Professor Sirpa Jalkanen: University of Tu
 rku\n\nInFLAMES flagship\nRegistration closes April 19th at 12:00.\nRegist
 er at: https://link.webropolsurveys.com/S/F283B4AB31C0B085\n\n&nbsp\;\n\nZ
 oom link and iCalendar invitation to join the online event will be sent to
  all registered participants one day before the event. For further informa
 tion contact: Anne Lahdenperä (ankahy@utu.fi) or Riitta Lahesmaa (rilahes
 @utu.fi)
END:VEVENT
BEGIN:VTIMEZONE
TZID:Europe/Helsinki
X-LIC-LOCATION:Europe/Helsinki
BEGIN:DAYLIGHT
DTSTART:20210328T040000
TZOFFSETFROM:+0200
TZOFFSETTO:+0300
TZNAME:EEST
END:DAYLIGHT
END:VTIMEZONE
END:VCALENDAR