BEGIN:VCALENDAR
VERSION:2.0
PRODID:-//wp-events-plugin.com//7.2.3.1//EN
TZID:Europe/Helsinki
X-WR-TIMEZONE:Europe/Helsinki
BEGIN:VEVENT
UID:295@inflames.utu.fi
DTSTART;TZID=Europe/Helsinki:20231114T140000
DTEND;TZID=Europe/Helsinki:20231114T150000
DTSTAMP:20231113T092858Z
URL:https://inflames.utu.fi/events/immunology-seminar-series-liv-eidsmo/
SUMMARY:Immunology Seminar Series\, Liv Eidsmo
DESCRIPTION:   
ATTACH;FMTTYPE=image/jpeg:https://inflames.utu.fi/wp-content/uploads/cropp
 ed.png
END:VEVENT
BEGIN:VTIMEZONE
TZID:Europe/Helsinki
X-LIC-LOCATION:Europe/Helsinki
BEGIN:STANDARD
DTSTART:20231029T030000
TZOFFSETFROM:+0300
TZOFFSETTO:+0200
TZNAME:EET
END:STANDARD
END:VTIMEZONE
END:VCALENDAR