BEGIN:VCALENDAR
VERSION:2.0
PRODID:-//wp-events-plugin.com//7.2.3.1//EN
TZID:Europe/Helsinki
X-WR-TIMEZONE:Europe/Helsinki
BEGIN:VEVENT
UID:341@inflames.utu.fi
DTSTART;TZID=Europe/Helsinki:20240507T140000
DTEND;TZID=Europe/Helsinki:20240507T150000
DTSTAMP:20240507T113310Z
URL:https://inflames.utu.fi/events/immunology-seminar-series-katri-lindfor
 s/
SUMMARY:Immunology Seminar Series\, Katri Lindfors
DESCRIPTION:   
ATTACH;FMTTYPE=image/jpeg:https://inflames.utu.fi/wp-content/uploads/Immun
 ologySeminarSeries-ISS-07052024.jpg
CATEGORIES:Events in English,Tapahtumat
END:VEVENT
BEGIN:VTIMEZONE
TZID:Europe/Helsinki
X-LIC-LOCATION:Europe/Helsinki
BEGIN:DAYLIGHT
DTSTART:20240331T040000
TZOFFSETFROM:+0200
TZOFFSETTO:+0300
TZNAME:EEST
END:DAYLIGHT
END:VTIMEZONE
END:VCALENDAR