BEGIN:VCALENDAR
VERSION:2.0
PRODID:-//wp-events-plugin.com//7.2.3.1//EN
TZID:Europe/Helsinki
X-WR-TIMEZONE:Europe/Helsinki
BEGIN:VEVENT
UID:255@inflames.utu.fi
DTSTART;TZID=Europe/Helsinki:20230613T140000
DTEND;TZID=Europe/Helsinki:20230613T150000
DTSTAMP:20230317T150533Z
URL:https://inflames.utu.fi/events/immunology-seminar-series-fiona-powrie-
 2/
SUMMARY:Immunology Seminar Series\, Fiona Powrie
DESCRIPTION:Immunology Seminar Series\n\nJune 13th at 14:00 – 15:00 (Finl
 and time)\n\nVirtual event\n\nFiona Powrie\, University of Oxford: TBA\n\n
 \nHost: Riitta Lahesmaa (rilahes@utu.fi )\n\nRegistration latest June 12t
 h at https://link.webropolsurveys.com/S/D08980F98591B2B7\n\nImmunology sem
 inar series is jointly organised by the Finnish Society for Immunology\, I
 nFLAMES Flagship and Turku Bioscience. For further information contact Ann
 e Lahdenperä (ankahy@utu.fi) or Riitta Lahesmaa (rilahes@utu.fi)\, Univer
 sity of Turku.
ATTACH;FMTTYPE=image/jpeg:https://inflames.utu.fi/wp-content/uploads/Powri
 e-small.jpg
CATEGORIES:Tapahtumat
END:VEVENT
BEGIN:VTIMEZONE
TZID:Europe/Helsinki
X-LIC-LOCATION:Europe/Helsinki
BEGIN:DAYLIGHT
DTSTART:20230326T040000
TZOFFSETFROM:+0200
TZOFFSETTO:+0300
TZNAME:EEST
END:DAYLIGHT
END:VTIMEZONE
END:VCALENDAR