BEGIN:VCALENDAR
VERSION:2.0
PRODID:-//wp-events-plugin.com//7.2.3.1//EN
TZID:Europe/Helsinki
X-WR-TIMEZONE:Europe/Helsinki
BEGIN:VEVENT
UID:151@inflames.utu.fi
DTSTART;TZID=Europe/Helsinki:20220607T140000
DTEND;TZID=Europe/Helsinki:20220607T150000
DTSTAMP:20230120T083320Z
URL:https://inflames.utu.fi/events/immunology-seminar-marko-salmi/
SUMMARY:Immunology Seminar Series
DESCRIPTION:The Lymph Node as a Filter. Marko Salmi\, University of Turku\n
 Host: Riitta Lahesmaa (rilahes@utu.fi)\nImmunology seminar series is joint
 ly organised by the Finnish Society for Immunology\, InFLAMES Flagship and
  Turku Bioscience. For further information contact Anne Lahdenperä (ankah
 y@utu.fi ) or Riitta Lahesmaa (rilahes@utu.fi)\, University of Turku.\n\n\
 n\n&nbsp\;\n\n&nbsp\;
ATTACH;FMTTYPE=image/jpeg:https://inflames.utu.fi/wp-content/uploads/2022/
 02/Immunology-series-Flyer_new_thumnail.jpg
END:VEVENT
BEGIN:VTIMEZONE
TZID:Europe/Helsinki
X-LIC-LOCATION:Europe/Helsinki
BEGIN:DAYLIGHT
DTSTART:20220327T040000
TZOFFSETFROM:+0200
TZOFFSETTO:+0300
TZNAME:EEST
END:DAYLIGHT
END:VTIMEZONE
END:VCALENDAR