BEGIN:VCALENDAR
VERSION:2.0
PRODID:-//wp-events-plugin.com//7.2.3.1//EN
TZID:Europe/Helsinki
X-WR-TIMEZONE:Europe/Helsinki
BEGIN:VEVENT
UID:322@inflames.utu.fi
DTSTART;TZID=Europe/Helsinki:20240206T140000
DTEND;TZID=Europe/Helsinki:20240206T150000
DTSTAMP:20240130T135518Z
URL:https://inflames.utu.fi/events/immunology-seminar-joris-van-der-veeken
 /
SUMMARY:Immunology Seminar / Joris van der Veeken
DESCRIPTION:  
ATTACH;FMTTYPE=image/jpeg:https://inflames.utu.fi/wp-content/uploads/csm_J
 orisVanDerVeeken_a7d5e6a517-002.jpg
END:VEVENT
BEGIN:VTIMEZONE
TZID:Europe/Helsinki
X-LIC-LOCATION:Europe/Helsinki
BEGIN:STANDARD
DTSTART:20231029T030000
TZOFFSETFROM:+0300
TZOFFSETTO:+0200
TZNAME:EET
END:STANDARD
END:VTIMEZONE
END:VCALENDAR