BEGIN:VCALENDAR
VERSION:2.0
PRODID:-//wp-events-plugin.com//7.2.3.1//EN
TZID:Europe/Helsinki
X-WR-TIMEZONE:Europe/Helsinki
BEGIN:VEVENT
UID:147@inflames.utu.fi
DTSTART;TZID=Europe/Helsinki:20220201T140000
DTEND;TZID=Europe/Helsinki:20220201T150000
DTSTAMP:20230120T083246Z
URL:https://inflames.utu.fi/events/immunology-seminar-jenny-mjosberg-2/
SUMMARY:Immunology Seminar\, Jenny Mjösberg
DESCRIPTION:Immunology Seminar\n\nFebruary 1st at 14:00 – 15:00\nVirtual 
 event\n\nJenny Mjösberg\, Karolinska Institute\nTissue- and Inflammation-
 Specific Imprinting of Human Innate Lymphoid Cells\n\nHost: Riitta Lahesma
 a (rilahes@utu.fi)
END:VEVENT
BEGIN:VTIMEZONE
TZID:Europe/Helsinki
X-LIC-LOCATION:Europe/Helsinki
BEGIN:STANDARD
DTSTART:20211031T030000
TZOFFSETFROM:+0300
TZOFFSETTO:+0200
TZNAME:EET
END:STANDARD
END:VTIMEZONE
END:VCALENDAR