BEGIN:VCALENDAR
VERSION:2.0
PRODID:-//wp-events-plugin.com//7.2.3.1//EN
TZID:Europe/Helsinki
X-WR-TIMEZONE:Europe/Helsinki
BEGIN:VEVENT
UID:446@inflames.utu.fi
DTSTART;TZID=Europe/Helsinki:20251106T121500
DTEND;TZID=Europe/Helsinki:20251106T160000
DTSTAMP:20251028T112637Z
URL:https://inflames.utu.fi/events/immunodeficiencies-or-iei-recent-develo
 pments-clinical-challenges-and-future-prospects/
SUMMARY:Immunodeficiencies or IEI – Recent Developments\, Clinical Challe
 nges and Future Prospects
DESCRIPTION:Immunodeficiencies or IEI – Recent Developments\, Clinical\nC
 hallenges and Future Prospects is an event to celebrate immunodeficiency e
 xpert doctor Leena Kainulainen’s career and discuss important issues in 
 IEIs in clinical practice\nAll clinical doctors and researchers in the fie
 ld of immunology in Turku University Hospital\, University of Turku and In
 FLAMES Research Flagship are welcome.\n\nRegister by  27.10.2025 for the 
 coffee. at https://link.webropolsurveys.com/S/36BEEAD90AF3F254\n\n\n\n&nbs
 p\;\n\n&nbsp\;\n\n&nbsp\;\n\n&nbsp\;
ATTACH;FMTTYPE=image/jpeg:https://inflames.utu.fi/wp-content/uploads/PDF_C
 MYK_TYKS_ENG_TITLE-pdf.jpg
CATEGORIES:Events in English,Tapahtumat
LOCATION:Alhopuro auditorium\, Medisiina D\, Turku\, Finland
X-APPLE-STRUCTURED-LOCATION;VALUE=URI;X-ADDRESS=Medisiina D\, Turku\, Finla
 nd;X-APPLE-RADIUS=100;X-TITLE=Alhopuro auditorium:geo:0,0
END:VEVENT
BEGIN:VTIMEZONE
TZID:Europe/Helsinki
X-LIC-LOCATION:Europe/Helsinki
BEGIN:STANDARD
DTSTART:20251026T030000
TZOFFSETFROM:+0300
TZOFFSETTO:+0200
TZNAME:EET
END:STANDARD
END:VTIMEZONE
END:VCALENDAR