BEGIN:VCALENDAR
VERSION:2.0
PRODID:-//wp-events-plugin.com//7.2.3.1//EN
TZID:Europe/Helsinki
X-WR-TIMEZONE:Europe/Helsinki
BEGIN:VEVENT
UID:450@inflames.utu.fi
DTSTART;TZID=Europe/Helsinki:20251111T153000
DTEND;TZID=Europe/Helsinki:20251111T163000
DTSTAMP:20251106T102224Z
URL:https://inflames.utu.fi/events/immunocaps-visiting-professor-introduct
 ory-seminar-the-long-and-winding-road-the-career-path-of-luke-oneill/
SUMMARY:IMMUNOCAPs Visiting Professor Introductory Seminar. The Long and Wi
 nding Road: The career path of Luke O’Neill
DESCRIPTION:  
ATTACH;FMTTYPE=image/jpeg:https://inflames.utu.fi/wp-content/uploads/thumb
 nailLukeOn_1@150x.png
CATEGORIES:Events in English,Tapahtumat
END:VEVENT
BEGIN:VTIMEZONE
TZID:Europe/Helsinki
X-LIC-LOCATION:Europe/Helsinki
BEGIN:STANDARD
DTSTART:20251026T030000
TZOFFSETFROM:+0300
TZOFFSETTO:+0200
TZNAME:EET
END:STANDARD
END:VTIMEZONE
END:VCALENDAR