BEGIN:VCALENDAR
VERSION:2.0
PRODID:-//wp-events-plugin.com//7.2.3.1//EN
TZID:Europe/Helsinki
X-WR-TIMEZONE:Europe/Helsinki
BEGIN:VEVENT
UID:325@inflames.utu.fi
DTSTART;TZID=Europe/Helsinki:20240319T143000
DTEND;TZID=Europe/Helsinki:20240319T210000
DTSTAMP:20240319T115853Z
URL:https://inflames.utu.fi/events/immudocs-seminar-what-everybody-should-
 know/
SUMMARY:ImmuDocs Seminar: What everybody should know?
DESCRIPTION:\nImmuDocs Seminar: What everybody should know?\nYou are warmly
  invited to listen to the presentations of the immunologists of the Finnis
 h universities and to learn what everyone should know about the ImmuDocs D
 octoral Education Pilot.\n\nPlace: Putous Auditorium\, Joki Visitor Center
 \, Lemminkäisenkatu 12b\, 20250 Turku\nThe seminar is hosted by InFLAMES 
 Flagship and Turku Immunology Centre\n\nRegister for catering and dinner b
 y March 14th : https://konsta.utu.fi/Default.aspx?tabid=88&amp\;tap=18222\
 nNo registration required for the seminar!\n\nYou may also join the semina
 r via Zoom: https://utu.zoom.us/j/68869397885\n\nProgramme:\n\n14:30-15:00
     Coffee/tea (Location: The first floor of the Joki Visitor Center)\n\
 n\n15:00-18:00 Seminar (Location: Putous Auditorium\, 2nd floor)\n\n\nOpen
 ing Words\nAcademician Sirpa Jalkanen\n\nOngoing immunological activities 
 \nProfessor Marko Salmi\, University of Turku\nR&amp\;D Director Ville Kyt
 ö\, Varha (The wellbeing services county of Southwest Finland)\nClinical 
 Instructor Eliisa Kekäläinen\, University of Helsinki\nProfessor Cecilia
  Sahlgren/Associate Professor Guillaume Jacquemet\, Åbo Akademi Universit
 y\nProfessor Mika Rämet\, University of Tampere\nProfessor Tuure Kinnunen
 \, University of Eastern Finland\nProfessor Timo Hautala\, University of O
 ulu\nIlkka Haukijärvi\, FVR\nHow to design an ImmuDocs project?\nSirpa Ja
 lkanen\, University of Turku\n\nPanel Discussion: How to make the ImmuDocs
  Pilot a success?\nHost: Sirpa Jalkanen\nProfessor Timo Hautala\, Universi
 ty of Oulu\nProfessor Mika Rämet\, University of Tampere\nClinical Instru
 ctor Eliisa Kekäläinen\, University of Helsinki\nUniversity Teacher\, Do
 cent Jukka Alinikula\, University of Turku\n18:05 - 20:30 Food and drinks\
 , Mauno Restaurant\, BioCity\n\n&nbsp\;\n\nWELCOME!\n\n&nbsp\;
ATTACH;FMTTYPE=image/jpeg:https://inflames.utu.fi/wp-content/uploads/InFLA
 MES_TIC_duo-2.png
END:VEVENT
BEGIN:VTIMEZONE
TZID:Europe/Helsinki
X-LIC-LOCATION:Europe/Helsinki
BEGIN:STANDARD
DTSTART:20231029T030000
TZOFFSETFROM:+0300
TZOFFSETTO:+0200
TZNAME:EET
END:STANDARD
END:VTIMEZONE
END:VCALENDAR