BEGIN:VCALENDAR
VERSION:2.0
PRODID:-//wp-events-plugin.com//7.2.3.1//EN
TZID:Europe/Helsinki
X-WR-TIMEZONE:Europe/Helsinki
BEGIN:VEVENT
UID:185@inflames.utu.fi
DTSTART;TZID=Europe/Helsinki:20220914T103000
DTEND;TZID=Europe/Helsinki:20220914T160000
DTSTAMP:20230120T083320Z
URL:https://inflames.utu.fi/events/healthbio-seminar/
SUMMARY:HealthBIO Seminar
DESCRIPTION:\n 	 Presidentti auditorio\, BioCity\, Tykistökatu 6\n 	14.9.
 2022 at 10.30–16.00 + evening event\n\n&nbsp\;\n\n 	The event info and r
 egistration can be found here.\n 	Organiser: Turku Science Park\n 	Langua
 ge: Englanti\n
ATTACH;FMTTYPE=image/jpeg:https://inflames.utu.fi/wp-content/uploads/2022/
 09/Health_campus_Turku_logo.png
END:VEVENT
BEGIN:VTIMEZONE
TZID:Europe/Helsinki
X-LIC-LOCATION:Europe/Helsinki
BEGIN:DAYLIGHT
DTSTART:20220327T040000
TZOFFSETFROM:+0200
TZOFFSETTO:+0300
TZNAME:EEST
END:DAYLIGHT
END:VTIMEZONE
END:VCALENDAR