BEGIN:VCALENDAR
VERSION:2.0
PRODID:-//wp-events-plugin.com//7.2.3.1//EN
TZID:Europe/Helsinki
X-WR-TIMEZONE:Europe/Helsinki
BEGIN:VEVENT
UID:360@inflames.utu.fi
DTSTART;TZID=Europe/Helsinki:20241212T120000
DTEND;TZID=Europe/Helsinki:20241212T130000
DTSTAMP:20241126T061944Z
URL:https://inflames.utu.fi/events/frontiers-of-science-torben-heick-jense
 n/
SUMMARY:Frontiers of Science: Torben Heick Jensen
DESCRIPTION:December 12th at 12:00\nOnsite event\nin Presidentti auditorium
 \, BioCity\nAutumn 2024 program\n\nProf. Torben Heick Jensen\, Aarhus Univ
 ersitet\, Denmark\nNuclear sorting of RNA\nHost: Matti Turtola (matti.turt
 ola@utu.fi)\n\nCoffee and sandwich at 11:45\, first come first served!\n\n
 &nbsp\;\n\nSix PhD researchers and early-career postdocs are welcome to ha
 ve a lunch and discuss with Prof. Jensen after the seminar. This is a grea
 t possibility to learn hosting skills in a friendly environment and create
  connections for future. Everyone is welcome to join\, BioCity Turku will 
 offer the lunch.\n\nIf you got interested\, please send an email to biocit
 yturku@bioscience.fi\n\n&nbsp\;\n\nThe discovery that most of the human ge
 nome is transcriptionally active poses a fascinating question: how do cell
 s manage this vast array of transcripts? Prof. Jensen’s research focuses
  on uncovering the fundamental mechanisms of transcriptome regulation. His
  work spans diverse aspects of RNA metabolism\, including transcription\, 
 RNA decay\, long non-coding RNAs\, snoRNAs\, RNA modifications\, transposa
 ble elements\, molecular recognition\, and RNA-binding proteins. Additiona
 lly\, the Jensen lab develops and applies cutting-edge methodologies to st
 udy transcriptome dynamics\, going far beyond standard RNA-Seq analyses.\n
 \n&nbsp\;\n\nSelected publications\n\nImamura\, K.\, Garland\, W.\, Schmid
 \, M.\, Jakobsen\, L.\, Sato\, K.\, Rouvière\, J. O.\, Jakobsen\, K. P.\,
  Burlacu\, E.\, Lopez\, M. L.\, Lykke-Andersen\, S.\, Andersen\, J. S. &am
 p\; Jensen\, T. H. (2024). A functional connection between the Microproces
 sor and a variant NEXT complex. Molecular Cell\, 84(21)\, 4158-4174.e6.\n\
 nRouvière JO\, Salerno-Kochan A\, Lykke-Andersen S\, Garland W\, Dou Y\, 
 Rathore O\, Molska EŠ\, Wu G\, Schmid M\, Bugai A\, Jakobsen L\, Žumer K
 \, Cramer P\, Andersen JS\, Conti E\, Jensen TH. (2023) ARS2 instructs ear
 ly transcription termination-coupled RNA decay by recruiting ZC3H4 to nasc
 ent transcripts. Mol Cell. 83\, 2240-2257.e6.\n\nGarland W\, Müller I\, W
 u M\, Schmid M\, Imamura K\, Rib L\, Sandelin A\, Helin K\, Jensen TH. (20
 22) Chromatin modifier HUSH co-operates with RNA decay factor NEXT to rest
 rict transposable element expression. Mol Cell. 82\, 1691-1707.e8.\n\nLykk
 e-Andersen S\, Žumer K\, Molska EŠ\, Rouvière JO\, Wu G\, Demel C\, Sch
 walb B\, Schmid M\, Cramer P\, Jensen TH. (2021) Integrator is a genome-wi
 de attenuator of non-productive transcription. Mol Cell. 81\,514-529.e6.\n
 \nLykke-Andersen\, S.\, Rouvière\, J. O.\, Schmid\, M.\, Gockert\, M. &am
 p\; Jensen\, T. H. (2024). Protocol for generating customizable and reprod
 ucible plots of sequencing coverage data using the seqNdisplayR package. S
 TAR Protocols\, 5(2)\, Article 102960.\n\n&nbsp\;\n\nGeneral information\n
 \n 	You can download and save all the autumn 2024 FoS-seminars to your cal
 endar from here: https://seafile.utu.fi/d/44a70f80ac1e46a9ad0a/\n 	Registr
 ation is not needed\, participation list is circulated in the audience\n 	
 If you are a student and later wish to get a certificate of attendance fro
 m the Frontier of Science seminars\, print out the seminar diary and after
  the seminar ask the BioCity coordinator to sign it https://seafile.utu.fi
 /d/44a70f80ac1e46a9ad0a/\n 	Please note that any audio or video recording 
 of the seminars is strictly forbidden.\n 	Autumn 2024 image credits to Mia
  Åstrand: Details of the Bacteroides fragilis VgrG protein (PDB ID: 8GRA)
 . Image created in the PyMOL Molecular Graphics System\, Version 2.5 Schr
 ödinger\, LLC.\n\n&nbsp\;\n\n&nbsp\;
ATTACH;FMTTYPE=image/jpeg:https://inflames.utu.fi/wp-content/uploads/heick
 -jensen-400.jpg
CATEGORIES:Events in English,Tapahtumat
END:VEVENT
BEGIN:VTIMEZONE
TZID:Europe/Helsinki
X-LIC-LOCATION:Europe/Helsinki
BEGIN:STANDARD
DTSTART:20241027T030000
TZOFFSETFROM:+0300
TZOFFSETTO:+0200
TZNAME:EET
END:STANDARD
END:VTIMEZONE
END:VCALENDAR